BEGIN:VCALENDAR
VERSION:2.0
PRODID:-//Ajuntament de Betxí - ECPv6.15.14//NONSGML v1.0//EN
CALSCALE:GREGORIAN
METHOD:PUBLISH
X-WR-CALNAME:Ajuntament de Betxí
X-ORIGINAL-URL:https://nueva.betxi.es
X-WR-CALDESC:Eventos para Ajuntament de Betxí
REFRESH-INTERVAL;VALUE=DURATION:PT1H
X-Robots-Tag:noindex
X-PUBLISHED-TTL:PT1H
BEGIN:VTIMEZONE
TZID:Europe/Madrid
BEGIN:DAYLIGHT
TZOFFSETFROM:+0100
TZOFFSETTO:+0200
TZNAME:CEST
DTSTART:20170326T010000
END:DAYLIGHT
BEGIN:STANDARD
TZOFFSETFROM:+0200
TZOFFSETTO:+0100
TZNAME:CET
DTSTART:20171029T010000
END:STANDARD
BEGIN:DAYLIGHT
TZOFFSETFROM:+0100
TZOFFSETTO:+0200
TZNAME:CEST
DTSTART:20180325T010000
END:DAYLIGHT
BEGIN:STANDARD
TZOFFSETFROM:+0200
TZOFFSETTO:+0100
TZNAME:CET
DTSTART:20181028T010000
END:STANDARD
BEGIN:DAYLIGHT
TZOFFSETFROM:+0100
TZOFFSETTO:+0200
TZNAME:CEST
DTSTART:20190331T010000
END:DAYLIGHT
BEGIN:STANDARD
TZOFFSETFROM:+0200
TZOFFSETTO:+0100
TZNAME:CET
DTSTART:20191027T010000
END:STANDARD
BEGIN:DAYLIGHT
TZOFFSETFROM:+0100
TZOFFSETTO:+0200
TZNAME:CEST
DTSTART:20200329T010000
END:DAYLIGHT
BEGIN:STANDARD
TZOFFSETFROM:+0200
TZOFFSETTO:+0100
TZNAME:CET
DTSTART:20201025T010000
END:STANDARD
BEGIN:DAYLIGHT
TZOFFSETFROM:+0100
TZOFFSETTO:+0200
TZNAME:CEST
DTSTART:20210328T010000
END:DAYLIGHT
BEGIN:STANDARD
TZOFFSETFROM:+0200
TZOFFSETTO:+0100
TZNAME:CET
DTSTART:20211031T010000
END:STANDARD
END:VTIMEZONE
BEGIN:VEVENT
DTSTART;TZID=Europe/Madrid:20200304T193000
DTEND;TZID=Europe/Madrid:20200304T210000
DTSTAMP:20260422T094914
CREATED:20200228T112606Z
LAST-MODIFIED:20200228T112606Z
UID:9601-1583350200-1583355600@nueva.betxi.es
SUMMARY:Ple de l'Ajuntament
DESCRIPTION:Ple de l’Ajuntament \nSessió ordinària de 04/03/2020\, a les 19.30h. \nConsulteu l’ordre del dia de la sessió.
URL:https://nueva.betxi.es/event/ple-de-lajuntament-9/
LOCATION:Saló de Plens de l’Ajuntament de Betxí\, Plaça Major\, 1\, Betxí\, 12549
CATEGORIES:Ajuntament
END:VEVENT
BEGIN:VEVENT
DTSTART;VALUE=DATE:20200302
DTEND;VALUE=DATE:20200311
DTSTAMP:20260422T094914
CREATED:20200211T083944Z
LAST-MODIFIED:20200306T101750Z
UID:9476-1583107200-1583884799@nueva.betxi.es
SUMMARY:Setmana de la Dona
DESCRIPTION:Betxí\, del 2 al 10 de març: Setmana de la Dona. Organitza Regidoria d’Igualtat.
URL:https://nueva.betxi.es/event/setmana-de-la-dona-2/
CATEGORIES:Actualitat
ATTACH;FMTTYPE=image/png:https://nueva.betxi.es/wp-content/uploads/2020/02/setmana-de-la-dona-web.png
END:VEVENT
BEGIN:VEVENT
DTSTART;TZID=Europe/Madrid:20200229T193000
DTEND;TZID=Europe/Madrid:20200229T203000
DTSTAMP:20260422T094914
CREATED:20200211T082658Z
LAST-MODIFIED:20200211T083403Z
UID:9472-1583004600-1583008200@nueva.betxi.es
SUMMARY:IV Festival Vi + Guitarra + Art
DESCRIPTION:IV Festival Vi + Guitarra + Art\n\n\nEn febrer\, tornem a celebrar el festival de Guitarra i Vi. Vos esperem els dissabtes 15\, 22 i 29 de febrer\, a les 19.30h. al Palau!
URL:https://nueva.betxi.es/event/iv-festival-vi-guitarra-art/
LOCATION:Palau Castell de Betxí\, Plaça Major\, Betxí\, 12549\, España
CATEGORIES:Concert
END:VEVENT
BEGIN:VEVENT
DTSTART;TZID=Europe/Madrid:20200229T100000
DTEND;TZID=Europe/Madrid:20200229T130000
DTSTAMP:20260422T094914
CREATED:20200218T074219Z
LAST-MODIFIED:20200218T074219Z
UID:9505-1582970400-1582981200@nueva.betxi.es
SUMMARY:II curs de defensa personal orientat a dones
DESCRIPTION:
URL:https://nueva.betxi.es/event/ii-curs-de-defensa-personal-orientat-a-dones/
LOCATION:CEIP Cervantes – J. Dualde de Betxí\, Cr. de la Trinitat\, s/n\, Betxí\, 12549
CATEGORIES:Agenda
END:VEVENT
BEGIN:VEVENT
DTSTART;TZID=Europe/Madrid:20200223T190000
DTEND;TZID=Europe/Madrid:20200223T200000
DTSTAMP:20260422T094914
CREATED:20200211T083536Z
LAST-MODIFIED:20200211T083536Z
UID:9474-1582484400-1582488000@nueva.betxi.es
SUMMARY:Concert de la Coral Polifònica de Betxí
DESCRIPTION:Diumenge 23:  a les 19 h\, al Teatre Municipal\, concert de la Coral Polifònica de Betxí. \nEntrada gratuïta fins a completar l’aforament.
URL:https://nueva.betxi.es/event/concert-de-la-coral-polifonica-de-betxi/
LOCATION:Teatre Municipal de Betxí\, Av. de Joaquín Dualde\, 10\, Betxí\, Castelló\, 12549\, Espanya
CATEGORIES:Concert
END:VEVENT
BEGIN:VEVENT
DTSTART;TZID=Europe/Madrid:20200222T193000
DTEND;TZID=Europe/Madrid:20200222T203000
DTSTAMP:20260422T094914
CREATED:20200211T082257Z
LAST-MODIFIED:20200211T082545Z
UID:9469-1582399800-1582403400@nueva.betxi.es
SUMMARY:IV Festival Vi + Guitarra + Art
DESCRIPTION:IV Festival Vi + Guitarra + Art\n\n\nEn febrer\, tornem a celebrar el festival de Guitarra i Vi. Vos esperem els dissabtes 15\, 22 i 29 de febrer\, a les 19.30h. al Palau!
URL:https://nueva.betxi.es/event/9469/
LOCATION:Palau Castell de Betxí\, Plaça Major\, Betxí\, 12549\, España
CATEGORIES:Concert
END:VEVENT
BEGIN:VEVENT
DTSTART;TZID=Europe/Madrid:20200221T173000
DTEND;TZID=Europe/Madrid:20200221T190000
DTSTAMP:20260422T094914
CREATED:20200218T072803Z
LAST-MODIFIED:20200218T072803Z
UID:9497-1582306200-1582311600@nueva.betxi.es
SUMMARY:Festa de Carnaval
DESCRIPTION:
URL:https://nueva.betxi.es/event/festa-de-carnaval/
LOCATION:Plaça Major\, Plaça Major\, Betxí\, 12549
CATEGORIES:Agenda
END:VEVENT
BEGIN:VEVENT
DTSTART;TZID=Europe/Madrid:20200220T193000
DTEND;TZID=Europe/Madrid:20200220T203000
DTSTAMP:20260422T094914
CREATED:20200218T073506Z
LAST-MODIFIED:20200218T073506Z
UID:9501-1582227000-1582230600@nueva.betxi.es
SUMMARY:Ple de l'Ajuntament
DESCRIPTION:Aprovació de la convocatòria i de l’ordre del dia de la sessió extraordinària que celebrarà el Ple de l’Ajuntament\, el proper dijous\, 20 de febrer de 2020\, a les 19:30h. \n– Consulteu l’ordre del dia de la sessió
URL:https://nueva.betxi.es/event/ple-de-lajuntament-8/
LOCATION:Saló de Plens de l’Ajuntament de Betxí\, Plaça Major\, 1\, Betxí\, 12549
CATEGORIES:Agenda,Ajuntament
END:VEVENT
BEGIN:VEVENT
DTSTART;TZID=Europe/Madrid:20200219T193000
DTEND;TZID=Europe/Madrid:20200219T210000
DTSTAMP:20260422T094914
CREATED:20200129T131933Z
LAST-MODIFIED:20200129T131933Z
UID:9434-1582140600-1582146000@nueva.betxi.es
SUMMARY:Sinsinati en concert
DESCRIPTION:*Club 100: SINSINATI en concert*. \nDimecres\, 19 de febrer. 19.30h. Teatre Municipal. Invitacions en la Biblioteca Municipal fins completar aforament. \nhttps://cutt.ly/HrTIJIw
URL:https://nueva.betxi.es/event/sinsinati-en-concert/
LOCATION:Teatre Municipal de Betxí\, Av. de Joaquín Dualde\, 10\, Betxí\, Castelló\, 12549\, Espanya
CATEGORIES:Concert
END:VEVENT
BEGIN:VEVENT
DTSTART;TZID=Europe/Madrid:20200215T193000
DTEND;TZID=Europe/Madrid:20200215T203000
DTSTAMP:20260422T094914
CREATED:20200129T122849Z
LAST-MODIFIED:20200214T134451Z
UID:9418-1581795000-1581798600@nueva.betxi.es
SUMMARY:IV Festival Guitarra i Vi
DESCRIPTION:IV Festival Vi + Guitarra + Art\n\n\nEn febrer\, tornem a celebrar el festival de Guitarra i Vi. Vos esperem els dissabtes 15\, 22 i 29 de febrer\, a les 19.30h. al Palau! \nNo podeu faltar!
URL:https://nueva.betxi.es/event/iv-festival-guitarra-i-vi/
LOCATION:Palau Castell de Betxí\, Plaça Major\, Betxí\, 12549\, España
CATEGORIES:Concert
END:VEVENT
BEGIN:VEVENT
DTSTART;TZID=Europe/Madrid:20200215T183000
DTEND;TZID=Europe/Madrid:20200215T193000
DTSTAMP:20260422T094914
CREATED:20200129T131407Z
LAST-MODIFIED:20200129T131407Z
UID:9431-1581791400-1581795000@nueva.betxi.es
SUMMARY:Exposició de quadres de l'artista Soledad Bravo
DESCRIPTION:🎨 🖼 El dissabte dia 15 de febrer a les 18.30h\, s’inaugurarà al Palau l’exposició de quadres de l’artista Soledad Bravo!\nAcí teniu l’horari de visites\, no vos ho podeu perdre\, mereix la pena!
URL:https://nueva.betxi.es/event/exposicio-de-quadres-de-lartista-soledad-bravo/
LOCATION:Palau Castell de Betxí\, Plaça Major\, Betxí\, 12549\, España
CATEGORIES:Exposició
END:VEVENT
BEGIN:VEVENT
DTSTART;TZID=Europe/Madrid:20200214T220000
DTEND;TZID=Europe/Madrid:20200214T220000
DTSTAMP:20260422T094914
CREATED:20200207T095921Z
LAST-MODIFIED:20200207T100935Z
UID:9460-1581717600-1581717600@nueva.betxi.es
SUMMARY:Musical "Aladdin"
DESCRIPTION:Divendres 14 de febrer:  les 20 h\, al Teatre Municipal es representarà el musical «Aladdin». \nPreu de les entrades: 12 €.
URL:https://nueva.betxi.es/event/musical-aladdin/
LOCATION:Teatre Municipal de Betxí\, Av. de Joaquín Dualde\, 10\, Betxí\, Castelló\, 12549\, Espanya
CATEGORIES:Musical
END:VEVENT
BEGIN:VEVENT
DTSTART;TZID=Europe/Madrid:20200211T120000
DTEND;TZID=Europe/Madrid:20200211T140000
DTSTAMP:20260422T094914
CREATED:20200129T130435Z
LAST-MODIFIED:20200129T130435Z
UID:9427-1581422400-1581429600@nueva.betxi.es
SUMMARY:Sessió informativa: "Com obtenir el teu certificat digital"
DESCRIPTION:❗📧 Sessió informativa: «Com obtenir el teu certificat digital». \nCentre Municipal de Formació de Persones Adultes. 11/02/2020. De 12 a 14h. (Amb inscripció prèvia)
URL:https://nueva.betxi.es/event/sessio-informativa-com-obtenir-el-teu-certificat-digital/
LOCATION:Centre Públic Municipal de Formació de Persones Adultes\, Av. de Sant Josep Obrer\, 40\, Betxí\, 12549
CATEGORIES:Actualitat
END:VEVENT
BEGIN:VEVENT
DTSTART;TZID=Europe/Madrid:20200208T170000
DTEND;TZID=Europe/Madrid:20200208T190000
DTSTAMP:20260422T094914
CREATED:20200129T125256Z
LAST-MODIFIED:20200129T125256Z
UID:9425-1581181200-1581188400@nueva.betxi.es
SUMMARY:V edició del 5K Betxí "Cada vegada més dones"
DESCRIPTION:V edició del 5K Betxí “Cada vegada més dones”. 🏃🏼‍♂🏃🏼‍♂🏃🏽‍♀🏃🏽‍♀ \nDissabte\, 8 de febrer a les 17.00h. Obertes inscripcions en 42ypico
URL:https://nueva.betxi.es/event/v-edicio-del-5k-betxi-cada-vegada-mes-dones/
CATEGORIES:Esports
END:VEVENT
BEGIN:VEVENT
DTSTART;TZID=Europe/Madrid:20200207T183000
DTEND;TZID=Europe/Madrid:20200207T200000
DTSTAMP:20260422T094914
CREATED:20200205T070432Z
LAST-MODIFIED:20200205T070432Z
UID:9457-1581100200-1581105600@nueva.betxi.es
SUMMARY:Presentació dels projectes Activem Betxí 2020
DESCRIPTION:El divendres 7 de febrer\, a les 18:30 h es farà un acte per presentar els projectes emmarcats dins la convocatòria de participació ciutadana Activem Betxí\, convocada conjuntament per l’Ajuntament de Betxí i la Fundació Novessendes.\n\nL’acte s’aprofitarà\, per una part\, per exposar els projectes realitzats a 2019 i\, per l’altra\, per a anunciar els nous projectes d’enguany. \nEsteu totes i tos convidats! \nHorari: divendres 7 de febrer a les 18:30 h \nLloc: Centra Cívic Fundació Novessendes (Av. Primer de maig\, 23)
URL:https://nueva.betxi.es/event/presentacio-dels-projectes-activem-betxi-2020/
LOCATION:Fundació Noves Sendes\, Av. 1 de maig\, 23\, Betxí\, 12549\, España
ORGANIZER;CN="Fundaci%C3%B3 C%C3%ADvica Novessendes":MAILTO:info@novessendes.org
END:VEVENT
BEGIN:VEVENT
DTSTART;TZID=Europe/Madrid:20200206T183000
DTEND;TZID=Europe/Madrid:20200206T200000
DTSTAMP:20260422T094914
CREATED:20200131T081720Z
LAST-MODIFIED:20200131T081859Z
UID:9447-1581013800-1581019200@nueva.betxi.es
SUMMARY:Jornada: “Recuperació de llavors autòctones de tomata”
DESCRIPTION:Jornada de presentació del catàleg de varietats hortícoles tradicionals d’interés agrícola: “Recuperació de llavors autòctones de tomata” \nData: 6 de febrer\, a les 18:30h. Saló d’Actes de Ruralnostra \nActivitat gratuïta amb inscripció prèvia: Tel. de contacte: 692766654 // Tel. EEA Vila-real: 964336620 email: esexag_vilareal@gva.es \nOrganitza: Conselleria d’Agricultura\, Desenvolupament Rural\, Emergència Climàtica i Transició Ecològica. Servei de Transferència de Tecnologia
URL:https://nueva.betxi.es/event/9447/
LOCATION:Seu de Ruralnostra\, Cr. Tales\, Betxí\, 12549
CATEGORIES:Conferència
END:VEVENT
BEGIN:VEVENT
DTSTART;TZID=Europe/Madrid:20200201T153000
DTEND;TZID=Europe/Madrid:20200201T173000
DTSTAMP:20260422T094914
CREATED:20200129T124311Z
LAST-MODIFIED:20200131T082841Z
UID:9420-1580571000-1580578200@nueva.betxi.es
SUMMARY:IX Memorial Jaime Pelegrí
DESCRIPTION:🚴‍♂🚴🏻‍♀IX Memorial Jaime Pelegrí. 📢Dissabte\, 1 de febrer. Eixida a les 15.30h.\, amb un total de 5 voltes al recorregut. Eixida i arribada en Av. de la Reina dels Apòstols. \n\n\n\n\n\n\n\n\n\n\n\n➡️ Mapa i rutòmetre del IX Memorial Jaime Pelegrí. \nEixida i Meta: Avda Reina dels Apòstols.\nC/ de la Vilavella.\nVia de Servei.\nCamí de Nules.\nCamí de la ratlla de Nules.\nVia de Servei.\nCamí Travessia de Sant Francesc.\nCamí del Solaig.\nCamí d’Artana.\nC/ de la Cova del Manyo (Montserrat).\nC/ Enric Valor.\nC/ Vicent Ramon. \n\n🚗 ¡Pàrquing! Habilitat estacionament dels vehicles dels participants en C/ Travessia Escolar Pasqual Meneu. \n❗Des d \nel Club Ciclista Betxí lamenten les molèsties que es puguen ocasionar al veïnat i demanen la planificació de rutes alternatives entre les 15:00 i les 17:30h. \n  \n\n\n\nhttps://cutt.ly/yrTIsFg
URL:https://nueva.betxi.es/event/ix-memorial-jaime-pelegri/
CATEGORIES:Agenda,Esports
END:VEVENT
BEGIN:VEVENT
DTSTART;TZID=Europe/Madrid:20190717T190000
DTEND;TZID=Europe/Madrid:20190717T203000
DTSTAMP:20260422T094914
CREATED:20190709T114156Z
LAST-MODIFIED:20190709T122516Z
UID:8435-1563390000-1563395400@nueva.betxi.es
SUMMARY:Xarrada prevenció d'incendis forestals
DESCRIPTION:#STOPALFOC \nXarrada de prevenció d’incendis forestals \nDirigida als veïns i veïnes de Betxí\, en especial als de les Urbanitzacions Montserrat i Penyanegra \nDimecres 17 de juliol\, a les 19:00h. \nSaló d’actes Ruralnostra \n 
URL:https://nueva.betxi.es/event/xarrada-prevencio-dincendis-forestals/
LOCATION:Seu de Ruralnostra\, Cr. Tales\, Betxí\, 12549
CATEGORIES:Conferència
ATTACH;FMTTYPE=image/jpeg:https://nueva.betxi.es/wp-content/uploads/2019/07/cartell_xarrada_incedis.jpg
END:VEVENT
BEGIN:VEVENT
DTSTART;TZID=Europe/Madrid:20190710T170000
DTEND;TZID=Europe/Madrid:20190710T210000
DTSTAMP:20260422T094914
CREATED:20190701T071507Z
LAST-MODIFIED:20190701T071618Z
UID:8383-1562778000-1562792400@nueva.betxi.es
SUMMARY:Donació de sang
DESCRIPTION:DONACIÓ DE SANG @GVAdonasang\nCentre de Salut de #Betxí \nDimecres\, 10 de juliol\nDe 17:00 a 21:00h. #donarsang\nRequisits per donar:\n– Tenir entre 18 i 65 anys.\n– Pesar més de 50 Kg.\n– No acudir en dejú.
URL:https://nueva.betxi.es/event/8383/
LOCATION:Centre de Salut de Betxí\, Av. de Sant Josep Obrer\, s/n\, Betxí\, 12549
END:VEVENT
BEGIN:VEVENT
DTSTART;TZID=Europe/Madrid:20190108T170000
DTEND;TZID=Europe/Madrid:20190108T203000
DTSTAMP:20260422T094914
CREATED:20190102T123201Z
LAST-MODIFIED:20190102T123322Z
UID:7727-1546966800-1546979400@nueva.betxi.es
SUMMARY:Donació de sang
DESCRIPTION:DONACIÓ DE SANG @GVAdonasang\nCentre de Salut de #Betxí \nDimarts\, 8 de gener\nDe 17:00 a 20:30 h. #donarsang\nRequisits per donar:\n– Tenir entre 18 i 65 anys.\n– Pesar més de 50 Kg.\n– No acudir en dejú. \n 
URL:https://nueva.betxi.es/event/donacio-de-sang-2/
LOCATION:Centre de Salut de Betxí\, Av. de Sant Josep Obrer\, s/n\, Betxí\, 12549
CATEGORIES:Actualitat
ATTACH;FMTTYPE=image/jpeg:https://nueva.betxi.es/wp-content/uploads/2019/01/donacio_sang.jpg
END:VEVENT
BEGIN:VEVENT
DTSTART;TZID=Europe/Madrid:20181213T190000
DTEND;TZID=Europe/Madrid:20181213T203000
DTSTAMP:20260422T094914
CREATED:20181212T100546Z
LAST-MODIFIED:20181212T100546Z
UID:7665-1544727600-1544733000@nueva.betxi.es
SUMMARY:Presentació del llibre "Evolució urbana de Betxí: dels orígens al Pla General"
DESCRIPTION:Presentació del llibre «Evolució urbana de Betxí: dels orígens al Pla General»\, de Xavier Mesado i Ferran Nebot
URL:https://nueva.betxi.es/event/presentacio-del-llibre-evolucio-urbana-de-betxi-dels-origens-al-pla-general/
LOCATION:Casa de la Cultura\, C/ del Doctor Vicent Ortells\, 1\, Betxí\, Castelló\, 12549\, Espanya
CATEGORIES:Llibres
ATTACH;FMTTYPE=image/jpeg:https://nueva.betxi.es/wp-content/uploads/2018/12/llibre_evolucio_urbana_betxi.jpg
END:VEVENT
BEGIN:VEVENT
DTSTART;TZID=Europe/Madrid:20181203T130000
DTEND;TZID=Europe/Madrid:20181203T140000
DTSTAMP:20260422T094914
CREATED:20181130T065156Z
LAST-MODIFIED:20181130T065438Z
UID:7627-1543842000-1543845600@nueva.betxi.es
SUMMARY:Junta de Govern Local
DESCRIPTION:Sessió ordinària de la Junta de Govern Local. \nDilluns\, 03/12/2018\, a les 13.00 h. \nConsulteu l’ordre del dia
URL:https://nueva.betxi.es/event/junta-de-govern-local/
LOCATION:Saló de Plens de l’Ajuntament de Betxí\, Plaça Major\, 1\, Betxí\, 12549
CATEGORIES:Ajuntament
ATTACH;FMTTYPE=image/jpeg:https://nueva.betxi.es/wp-content/uploads/2016/02/ple_ajuntament_op.jpg
END:VEVENT
BEGIN:VEVENT
DTSTART;TZID=Europe/Madrid:20181201T190000
DTEND;TZID=Europe/Madrid:20181201T203000
DTSTAMP:20260422T094914
CREATED:20181130T070009Z
LAST-MODIFIED:20181130T070009Z
UID:7632-1543690800-1543696200@nueva.betxi.es
SUMMARY:Teatre: "Ligeros de equipaje"\, de la companyia Viridiana
DESCRIPTION:Representació teatral dins del festival Reclam «Ligeros de equipaje»\, a càrrec de la companyia Viridiana\, al Teatre Municipal. \nPreu de les entrades: 5 €.
URL:https://nueva.betxi.es/event/teatre-ligeros-de-equipaje-de-la-companyia-viridiana/
LOCATION:Teatre Municipal de Betxí\, Av. de Joaquín Dualde\, 10\, Betxí\, Castelló\, 12549\, Espanya
CATEGORIES:Teatre
ATTACH;FMTTYPE=image/jpeg:https://nueva.betxi.es/wp-content/uploads/2015/06/cropped-teatre.jpg
END:VEVENT
BEGIN:VEVENT
DTSTART;TZID=Europe/Madrid:20181128T190000
DTEND;TZID=Europe/Madrid:20181128T203000
DTSTAMP:20260422T094914
CREATED:20181123T080037Z
LAST-MODIFIED:20181123T080037Z
UID:7610-1543431600-1543437000@nueva.betxi.es
SUMMARY:Ple de l'Ajuntament
DESCRIPTION:Ple de l’Ajuntament \nSessió ordinària de 28/11/2018\, a les 19.00 h. \nConsulteu l’ordre del dia
URL:https://nueva.betxi.es/event/ple-de-lajuntament-7/
LOCATION:Saló de Plens de l’Ajuntament de Betxí\, Plaça Major\, 1\, Betxí\, 12549
ATTACH;FMTTYPE=image/jpeg:https://nueva.betxi.es/wp-content/uploads/2016/02/ple_ajuntament_op.jpg
END:VEVENT
BEGIN:VEVENT
DTSTART;TZID=Europe/Madrid:20181124T190000
DTEND;TZID=Europe/Madrid:20181124T210000
DTSTAMP:20260422T094914
CREATED:20181119T095655Z
LAST-MODIFIED:20181119T095655Z
UID:7561-1543086000-1543093200@nueva.betxi.es
SUMMARY:Concert de Santa Cecília de la UMB
DESCRIPTION:Concert de Santa Cecília de la Unió Musical de Betxí.
URL:https://nueva.betxi.es/event/concert-de-santa-cecilia-de-la-umb/
LOCATION:Teatre Municipal de Betxí\, Av. de Joaquín Dualde\, 10\, Betxí\, Castelló\, 12549\, Espanya
CATEGORIES:Concert
END:VEVENT
BEGIN:VEVENT
DTSTART;TZID=Europe/Madrid:20181122T121500
DTEND;TZID=Europe/Madrid:20181122T133000
DTSTAMP:20260422T094914
CREATED:20181120T133645Z
LAST-MODIFIED:20181120T133645Z
UID:7571-1542888900-1542893400@nueva.betxi.es
SUMMARY:Comissió Informativa de Governació i Hisenda
DESCRIPTION:Sessió ordinària de la Comissió Informativa de Governació i Hisenda. Sessió ordinària de 22/11/2018
URL:https://nueva.betxi.es/event/comissio-informativa-de-governacio-i-hisenda/
LOCATION:Saló de Plens de l’Ajuntament de Betxí\, Plaça Major\, 1\, Betxí\, 12549
CATEGORIES:Ajuntament
END:VEVENT
BEGIN:VEVENT
DTSTART;TZID=Europe/Madrid:20181119T100000
DTEND;TZID=Europe/Madrid:20181123T200000
DTSTAMP:20260422T094914
CREATED:20181112T070917Z
LAST-MODIFIED:20181112T073047Z
UID:7479-1542621600-1543003200@nueva.betxi.es
SUMMARY:Exposició: "Els misteris assumpcionistes d'Elx\, València i Castelló"
DESCRIPTION:Exposició «Els misteris assumpcionistes d’Elx\, València i Castelló»\, de l’Acadèmia Valenciana de la Llengua.
URL:https://nueva.betxi.es/event/exposicio-els-misteris-assumpcionistes-delx-valencia-i-castello/
LOCATION:Casa de la Cultura\, C/ del Doctor Vicent Ortells\, 1\, Betxí\, Castelló\, 12549\, Espanya
CATEGORIES:Exposició
END:VEVENT
BEGIN:VEVENT
DTSTART;TZID=Europe/Madrid:20181118T190000
DTEND;TZID=Europe/Madrid:20181118T203000
DTSTAMP:20260422T094914
CREATED:20181112T064328Z
LAST-MODIFIED:20181112T071126Z
UID:7475-1542567600-1542573000@nueva.betxi.es
SUMMARY:Representació teatral: "Instruccions per a no tenir por si ve la Pastora"
DESCRIPTION:Representació teatral dins del festival Reclam «Instruccions per a no tenir por si ve la Pastora»\, a càrrec de la companyia La Ravalera\, al Teatre Municipal. \nEntrada gratuïta fins a completar l’aforament.
URL:https://nueva.betxi.es/event/representacio-teatral-instruccions-per-a-no-tenir-por-si-ve-la-pastora/
LOCATION:Teatre Municipal de Betxí\, Av. de Joaquín Dualde\, 10\, Betxí\, Castelló\, 12549\, Espanya
CATEGORIES:Teatre
END:VEVENT
BEGIN:VEVENT
DTSTART;TZID=Europe/Madrid:20181115T121500
DTEND;TZID=Europe/Madrid:20181115T133000
DTSTAMP:20260422T094914
CREATED:20181112T170818Z
LAST-MODIFIED:20181112T171010Z
UID:7494-1542284100-1542288600@nueva.betxi.es
SUMMARY:Comissió Informativa d’Educació\, Cultura\, Esports\, Festes\, Joventut i Normalització Lingüística
DESCRIPTION:
URL:https://nueva.betxi.es/event/comissio-informativa-deducacio-cultura-esports-festes-joventut-i-normalitzacio-linguistica/
LOCATION:Saló de Plens de l’Ajuntament de Betxí\, Plaça Major\, 1\, Betxí\, 12549
CATEGORIES:Ajuntament
END:VEVENT
BEGIN:VEVENT
DTSTART;TZID=Europe/Madrid:20181113T183000
DTEND;TZID=Europe/Madrid:20181113T193000
DTSTAMP:20260422T094914
CREATED:20181112T180355Z
LAST-MODIFIED:20181112T180355Z
UID:7499-1542133800-1542137400@nueva.betxi.es
SUMMARY:Xarrada: "La taronja i els seus beneficis per a la salut"
DESCRIPTION:Xarrada a càrrec de la dietista Sara Bellés\, a la part de dalt de la Biblioteca Municipal\, dins dels actes de la V Setmana de la Taronja.
URL:https://nueva.betxi.es/event/xarrada-la-taronja-i-els-seus-beneficis-per-a-la-salut/
LOCATION:Casa de la Cultura\, C/ del Doctor Vicent Ortells\, 1\, Betxí\, Castelló\, 12549\, Espanya
CATEGORIES:Conferència
END:VEVENT
END:VCALENDAR