BEGIN:VCALENDAR
VERSION:2.0
PRODID:-//Ajuntament de Betxí - ECPv6.15.14//NONSGML v1.0//EN
CALSCALE:GREGORIAN
METHOD:PUBLISH
X-ORIGINAL-URL:https://nueva.betxi.es
X-WR-CALDESC:Eventos para Ajuntament de Betxí
REFRESH-INTERVAL;VALUE=DURATION:PT1H
X-Robots-Tag:noindex
X-PUBLISHED-TTL:PT1H
BEGIN:VTIMEZONE
TZID:Europe/Madrid
BEGIN:DAYLIGHT
TZOFFSETFROM:+0100
TZOFFSETTO:+0200
TZNAME:CEST
DTSTART:20140330T010000
END:DAYLIGHT
BEGIN:STANDARD
TZOFFSETFROM:+0200
TZOFFSETTO:+0100
TZNAME:CET
DTSTART:20141026T010000
END:STANDARD
BEGIN:DAYLIGHT
TZOFFSETFROM:+0100
TZOFFSETTO:+0200
TZNAME:CEST
DTSTART:20150329T010000
END:DAYLIGHT
BEGIN:STANDARD
TZOFFSETFROM:+0200
TZOFFSETTO:+0100
TZNAME:CET
DTSTART:20151025T010000
END:STANDARD
BEGIN:DAYLIGHT
TZOFFSETFROM:+0100
TZOFFSETTO:+0200
TZNAME:CEST
DTSTART:20160327T010000
END:DAYLIGHT
BEGIN:STANDARD
TZOFFSETFROM:+0200
TZOFFSETTO:+0100
TZNAME:CET
DTSTART:20161030T010000
END:STANDARD
END:VTIMEZONE
BEGIN:VEVENT
DTSTART;TZID=Europe/Madrid:20151226T190000
DTEND;TZID=Europe/Madrid:20151226T210000
DTSTAMP:20260423T154734
CREATED:20151223T120115Z
LAST-MODIFIED:20151223T121255Z
UID:3243-1451156400-1451163600@nueva.betxi.es
SUMMARY:TRIBUT A U2 a càrrec de Spyplane
DESCRIPTION:A les 19\,00h\, TRIBUT A U2 a càrrec de Spyplane\, al Pub Monkey. Preu de les entrades: 6 €
URL:https://nueva.betxi.es/event/tribut-a-u2-a-carrec-de-spyplane/
LOCATION:Pub Monkey\, de la Coma\, 30\, Betxí\, 12549
END:VEVENT
BEGIN:VEVENT
DTSTART;TZID=Europe/Madrid:20151226T113000
DTEND;TZID=Europe/Madrid:20151226T133000
DTSTAMP:20260423T154734
CREATED:20151223T114508Z
LAST-MODIFIED:20151223T114508Z
UID:3240-1451129400-1451136600@nueva.betxi.es
SUMMARY:JUGAFUSTA (jocs de fusta)
DESCRIPTION:D’11\,30h a 13\,30 h\, JUGAFUSTA (jocs de fusta) a la plaça del Llaurador.
URL:https://nueva.betxi.es/event/inici-de-lescola-nadalenca/
LOCATION:Plaça del Llaurador\, Plaça del Llaurador\, Betxí\, 12549
END:VEVENT
BEGIN:VEVENT
DTSTART;TZID=Europe/Madrid:20151128T230000
DTEND;TZID=Europe/Madrid:20151129T000000
DTSTAMP:20260423T154734
CREATED:20151122T175137Z
LAST-MODIFIED:20151122T175137Z
UID:3022-1448751600-1448755200@nueva.betxi.es
SUMMARY:Concert del grup flamenc «Algazara»
DESCRIPTION:Dissabte 28\, a les 23.00 h\, en el Teatre Municipal\, concert del grup flamenc «Algazara». Concert dins del programa «Postres de Músic»: per cada 15 € de consumició en un local col·laborador\, una entrada gratis.
URL:https://nueva.betxi.es/event/concert-del-grup-flamenc-algazara/
LOCATION:Teatre Municipal de Betxí\, Av. de Joaquín Dualde\, 10\, Betxí\, Castelló\, 12549\, Espanya
CATEGORIES:Concert,Teatre
END:VEVENT
BEGIN:VEVENT
DTSTART;TZID=Europe/Madrid:20151127T190000
DTEND;TZID=Europe/Madrid:20151127T200000
DTSTAMP:20260423T154734
CREATED:20151114T184256Z
LAST-MODIFIED:20151114T184604Z
UID:2911-1448650800-1448654400@nueva.betxi.es
SUMMARY:Presentació del Pla Estratègic del Consell Econòmic i Empresarial de Betxí.
DESCRIPTION:
URL:https://nueva.betxi.es/event/presentacio-del-pla-estrategic-del-consell-economic-i-empresarial-de-betxi/
LOCATION:Seu de Ruralnostra\, Cr. Tales\, Betxí\, 12549
END:VEVENT
BEGIN:VEVENT
DTSTART;TZID=Europe/Madrid:20151125T183000
DTEND;TZID=Europe/Madrid:20151125T200000
DTSTAMP:20260423T154734
CREATED:20151122T175608Z
LAST-MODIFIED:20151122T175608Z
UID:3023-1448476200-1448481600@nueva.betxi.es
SUMMARY:Ple de l'Ajuntament
DESCRIPTION:Sessió ordinària del Ple de l’Ajuntament.
URL:https://nueva.betxi.es/event/ple-de-lajuntament-2/
LOCATION:Saló de Plens de l’Ajuntament de Betxí\, Plaça Major\, 1\, Betxí\, 12549
END:VEVENT
BEGIN:VEVENT
DTSTART;TZID=Europe/Madrid:20151121T120000
DTEND;TZID=Europe/Madrid:20151121T130000
DTSTAMP:20260423T154734
CREATED:20151114T190126Z
LAST-MODIFIED:20151114T190247Z
UID:2914-1448107200-1448110800@nueva.betxi.es
SUMMARY:Presentació del llibre "Bolets del País Valencià"
DESCRIPTION:Presentació del llibre «Bolets del País Valencià» a càrrec d’Antoni belda\, autor\, amb classe pràctica del coneixement de boets i tast gratuït posterior.\nActe dins de l’Aplec de la Muntanyeta 2015.\nOrganitzen Ajuntament de Betxí i Associació Vicent Tomàs i Martí. Amb la col·laboració d’Acció Cultural del País Valencià
URL:https://nueva.betxi.es/event/presentacio-del-llibre-bolets-del-pais-valencia/
LOCATION:Cafeteria Brisamar\, Av. Herminio Pérez\, 4\, Betxí\, 12549
END:VEVENT
BEGIN:VEVENT
DTSTART;TZID=Europe/Madrid:20151120T183000
DTEND;TZID=Europe/Madrid:20151120T193000
DTSTAMP:20260423T154734
CREATED:20151114T184829Z
LAST-MODIFIED:20151114T184829Z
UID:2913-1448044200-1448047800@nueva.betxi.es
SUMMARY:Presentació del llibre "Els fils de la memòria" en Betxí
DESCRIPTION:Amb motiu del Dia de les Lletres Valencianes\, presentació del llibre «Els fils de la memòria» en la Biblioteca Municipal de betxí\, a càrrec dels seus autors Josep. V. Font i Nel·lo Navarro.
URL:https://nueva.betxi.es/event/presentacio-del-llibre-els-fils-de-la-memoria-en-betxi/
LOCATION:Casa de la Cultura\, C/ del Doctor Vicent Ortells\, 1\, Betxí\, Castelló\, 12549\, Espanya
END:VEVENT
BEGIN:VEVENT
DTSTART;TZID=Europe/Madrid:20151028T190000
DTEND;TZID=Europe/Madrid:20151028T210000
DTSTAMP:20260423T154734
CREATED:20151027T135608Z
LAST-MODIFIED:20151027T135608Z
UID:2459-1446058800-1446066000@nueva.betxi.es
SUMMARY:Ple de l'Ajuntament
DESCRIPTION:Sessió ordinària núm. 10/2015 del Ple de l’Ajuntament
URL:https://nueva.betxi.es/event/ple-de-lajuntament/
LOCATION:Saló de Plens de l’Ajuntament de Betxí\, Plaça Major\, 1\, Betxí\, 12549
END:VEVENT
BEGIN:VEVENT
DTSTART;TZID=Europe/Madrid:20151023T193000
DTEND;TZID=Europe/Madrid:20151023T203000
DTSTAMP:20260423T154734
CREATED:20151019T080716Z
LAST-MODIFIED:20151019T080716Z
UID:2405-1445628600-1445632200@nueva.betxi.es
SUMMARY:Presentació del 2n. Trail Pics de Betxí
DESCRIPTION:Presentació del 2n. Trail Pics de Betxí\nRecorreguts de la cursa i la marxa\, dorsals\, novetats…\nDivendres\, 23 d’octubre a les 19.30 h. en Noves Sendes
URL:https://nueva.betxi.es/event/presentacio-del-2n-trail-pics-de-betxi/
LOCATION:Fundació Noves Sendes\, Av. 1 de maig\, 23\, Betxí\, 12549\, España
CATEGORIES:Esports
ATTACH;FMTTYPE=image/jpeg:https://nueva.betxi.es/wp-content/uploads/2015/10/PRESENTACIÓ-CURSA.jpg
END:VEVENT
BEGIN:VEVENT
DTSTART;TZID=Europe/Madrid:20150711T190000
DTEND;TZID=Europe/Madrid:20150711T200000
DTSTAMP:20260423T154734
CREATED:20150707T081521Z
LAST-MODIFIED:20150707T081521Z
UID:2380-1436641200-1436644800@nueva.betxi.es
SUMMARY:Concert de música medieval i tradicional mediterrània
DESCRIPTION:Concert de música medieval i tradicional de la Mediterrània a càrrec del grup “Ars Horo”.  Amb la col·laboració de CulturArts.
URL:https://nueva.betxi.es/event/concert-de-musica-medieval-i-tradicional-mediterrania/
LOCATION:Palau Castell de Betxí\, Plaça Major\, Betxí\, 12549\, España
CATEGORIES:Concert
END:VEVENT
BEGIN:VEVENT
DTSTART;TZID=Europe/Madrid:20150620T190000
DTEND;TZID=Europe/Madrid:20150620T200000
DTSTAMP:20260423T154734
CREATED:20150619T114053Z
LAST-MODIFIED:20150619T114739Z
UID:2327-1434826800-1434830400@nueva.betxi.es
SUMMARY:Festival "La Calle de los Lunares"
DESCRIPTION:Festival de “La Calle de los Lunares”.
URL:https://nueva.betxi.es/event/festival-la-calle-de-los-lunares/
LOCATION:Teatre Municipal de Betxí\, Av. de Joaquín Dualde\, 10\, Betxí\, Castelló\, 12549\, Espanya
CATEGORIES:Dansa
END:VEVENT
BEGIN:VEVENT
DTSTART;TZID=Europe/Madrid:20150619T190000
DTEND;TZID=Europe/Madrid:20150619T200000
DTSTAMP:20260423T154734
CREATED:20150619T092333Z
LAST-MODIFIED:20150619T092333Z
UID:2323-1434740400-1434744000@nueva.betxi.es
SUMMARY:Actuació del grup “Oh\, foll amor”
DESCRIPTION:El Grup «Oh\, foll amor» presenta «Viatger que s’extravia». \nUn espectacle encisador i emotiu amb poemes cantats i recitats\, amb la sensibilitat i traça a càrrec de dos musics i un poeta. \nTextos de: \nVicent Andrés Estellés\, Pau Sif\, Joan Salvat Papasseit\, etc. \nMúsica i veus: \nJosep Vicent Tallada i Samuel Iborra. \nRecitat: \nPau Sanchis. \nEntrada gratuïta fins a completar l’aforament.
URL:https://nueva.betxi.es/event/actuacio-del-grup-oh-foll-amor/
LOCATION:Palau Castell de Betxí\, Plaça Major\, Betxí\, 12549\, España
CATEGORIES:Recital
END:VEVENT
BEGIN:VEVENT
DTSTART;TZID=Europe/Madrid:20150610T190000
DTEND;TZID=Europe/Madrid:20150610T200000
DTSTAMP:20260423T154734
CREATED:20150605T092444Z
LAST-MODIFIED:20150605T092518Z
UID:2236-1433962800-1433966400@nueva.betxi.es
SUMMARY:Audició de l'Escola de Música
DESCRIPTION:Audició de l’Escola de Música de la Unió Musical de Betxí.
URL:https://nueva.betxi.es/event/audicio-de-lescola-de-musica/
LOCATION:Teatre Municipal de Betxí\, Av. de Joaquín Dualde\, 10\, Betxí\, Castelló\, 12549\, Espanya
CATEGORIES:Concert
END:VEVENT
BEGIN:VEVENT
DTSTART;TZID=Europe/Madrid:20150606T180000
DTEND;TZID=Europe/Madrid:20150606T190000
DTSTAMP:20260423T154734
CREATED:20150603T055345Z
LAST-MODIFIED:20150604T203444Z
UID:2215-1433613600-1433617200@nueva.betxi.es
SUMMARY:El somni d'una nit d'estiu
DESCRIPTION:Representació de l’obra de Shakespeare “El somni d’una nit d’estiu”\, a càrrec de l’Aula de Teatre “Carles Pons” de la Universitat Jaume I.
URL:https://nueva.betxi.es/event/el-somni-duna-nit-destiu/
LOCATION:Castelló
CATEGORIES:Teatre
END:VEVENT
BEGIN:VEVENT
DTSTART;TZID=Europe/Madrid:20150504T110000
DTEND;TZID=Europe/Madrid:20150510T200000
DTSTAMP:20260423T154734
CREATED:20150430T073503Z
LAST-MODIFIED:20150604T203651Z
UID:1933-1430737200-1431288000@nueva.betxi.es
SUMMARY:Exposició “Carles Salvador\, escriptor de l'any”
DESCRIPTION:Exposició itinerant en homenatge al mestre\, gramàtic i literat Carles Salvador (1893-1955)\, elegit per l’Acadèmia Valenciana de la Llengua Escriptor de l’Any 2015. \nL’exposició\, amb el nom ‘Carles Salvador i el seu temps. Els escriptors valencians: memòria i modernitat’\, està dividida en dotze plafons per a oferir una visió global de l’època; la societat valenciana de les primeres dècades del segle xx; la importància de la cultura del valencianisme; el centres de cultura; les publicacions literàries i culturals; la llengua dels valencians; l’educació i el territori; l’ensenyament del valencià en temps difícils\, i la poesia i la modernitat\, sense oblidar l’activitat pedagògica\, filològica i creativa del mestre Salvador. \n 
URL:https://nueva.betxi.es/event/exposicio-carles-salvador-escriptor-de-lany/
LOCATION:Castelló
CATEGORIES:Exposició
END:VEVENT
BEGIN:VEVENT
DTSTART;TZID=Europe/Madrid:20150502T193000
DTEND;TZID=Europe/Madrid:20150502T203000
DTSTAMP:20260423T154734
CREATED:20150430T112012Z
LAST-MODIFIED:20150604T203845Z
UID:1938-1430595000-1430598600@nueva.betxi.es
SUMMARY:Teatre Artibe: “Tot lo que relluïx”
DESCRIPTION:Artibe representarà l’obra còmica “Tot lo que relluïx”. Organitza Caixa Rural Betxí. Entrada gratuïta fins completar l’aforament.
URL:https://nueva.betxi.es/event/teatre-artibe-tot-lo-que-relluix/
LOCATION:Castelló
CATEGORIES:Teatre
END:VEVENT
BEGIN:VEVENT
DTSTART;TZID=Europe/Madrid:20150424T230000
DTEND;TZID=Europe/Madrid:20150424T230000
DTSTAMP:20260423T154734
CREATED:20150430T113810Z
LAST-MODIFIED:20150604T204222Z
UID:1940-1429916400-1429916400@nueva.betxi.es
SUMMARY:Concert de pop-rock del grup "Tardor"
DESCRIPTION:Concert dins del programa Postres de Músic: per cada 15 euros de consumició en un dels locals col·laboradors\, s’obsequiarà amb una entrada gratuïta. Amb la col·laboració de CulturArts i l’Acadèmia Valenciana de la Llengua. Preu de les entrades: 2 €.
URL:https://nueva.betxi.es/event/concert-de-pop-rock-del-grup-tardor/
LOCATION:Castelló
CATEGORIES:Concert
END:VEVENT
END:VCALENDAR