BEGIN:VCALENDAR
VERSION:2.0
PRODID:-//Ajuntament de Betxí - ECPv6.15.14//NONSGML v1.0//EN
CALSCALE:GREGORIAN
METHOD:PUBLISH
X-WR-CALNAME:Ajuntament de Betxí
X-ORIGINAL-URL:https://nueva.betxi.es
X-WR-CALDESC:Eventos para Ajuntament de Betxí
REFRESH-INTERVAL;VALUE=DURATION:PT1H
X-Robots-Tag:noindex
X-PUBLISHED-TTL:PT1H
BEGIN:VTIMEZONE
TZID:Europe/Madrid
BEGIN:DAYLIGHT
TZOFFSETFROM:+0100
TZOFFSETTO:+0200
TZNAME:CEST
DTSTART:20140330T010000
END:DAYLIGHT
BEGIN:STANDARD
TZOFFSETFROM:+0200
TZOFFSETTO:+0100
TZNAME:CET
DTSTART:20141026T010000
END:STANDARD
BEGIN:DAYLIGHT
TZOFFSETFROM:+0100
TZOFFSETTO:+0200
TZNAME:CEST
DTSTART:20150329T010000
END:DAYLIGHT
BEGIN:STANDARD
TZOFFSETFROM:+0200
TZOFFSETTO:+0100
TZNAME:CET
DTSTART:20151025T010000
END:STANDARD
BEGIN:DAYLIGHT
TZOFFSETFROM:+0100
TZOFFSETTO:+0200
TZNAME:CEST
DTSTART:20160327T010000
END:DAYLIGHT
BEGIN:STANDARD
TZOFFSETFROM:+0200
TZOFFSETTO:+0100
TZNAME:CET
DTSTART:20161030T010000
END:STANDARD
END:VTIMEZONE
BEGIN:VEVENT
DTSTART;TZID=Europe/Madrid:20150502T193000
DTEND;TZID=Europe/Madrid:20150502T203000
DTSTAMP:20260423T200233
CREATED:20150430T112012Z
LAST-MODIFIED:20150604T203845Z
UID:1938-1430595000-1430598600@nueva.betxi.es
SUMMARY:Teatre Artibe: “Tot lo que relluïx”
DESCRIPTION:Artibe representarà l’obra còmica “Tot lo que relluïx”. Organitza Caixa Rural Betxí. Entrada gratuïta fins completar l’aforament.
URL:https://nueva.betxi.es/event/teatre-artibe-tot-lo-que-relluix/
CATEGORIES:Teatre
END:VEVENT
BEGIN:VEVENT
DTSTART;TZID=Europe/Madrid:20150424T230000
DTEND;TZID=Europe/Madrid:20150424T230000
DTSTAMP:20260423T200233
CREATED:20150430T113810Z
LAST-MODIFIED:20150604T204222Z
UID:1940-1429916400-1429916400@nueva.betxi.es
SUMMARY:Concert de pop-rock del grup "Tardor"
DESCRIPTION:Concert dins del programa Postres de Músic: per cada 15 euros de consumició en un dels locals col·laboradors\, s’obsequiarà amb una entrada gratuïta. Amb la col·laboració de CulturArts i l’Acadèmia Valenciana de la Llengua. Preu de les entrades: 2 €.
URL:https://nueva.betxi.es/event/concert-de-pop-rock-del-grup-tardor/
CATEGORIES:Concert
END:VEVENT
END:VCALENDAR