BEGIN:VCALENDAR
VERSION:2.0
PRODID:-//Ajuntament de Betxí - ECPv6.15.14//NONSGML v1.0//EN
CALSCALE:GREGORIAN
METHOD:PUBLISH
X-WR-CALNAME:Ajuntament de Betxí
X-ORIGINAL-URL:https://nueva.betxi.es
X-WR-CALDESC:Eventos para Ajuntament de Betxí
REFRESH-INTERVAL;VALUE=DURATION:PT1H
X-Robots-Tag:noindex
X-PUBLISHED-TTL:PT1H
BEGIN:VTIMEZONE
TZID:Europe/Madrid
BEGIN:DAYLIGHT
TZOFFSETFROM:+0100
TZOFFSETTO:+0200
TZNAME:CEST
DTSTART:20200329T010000
END:DAYLIGHT
BEGIN:STANDARD
TZOFFSETFROM:+0200
TZOFFSETTO:+0100
TZNAME:CET
DTSTART:20201025T010000
END:STANDARD
BEGIN:DAYLIGHT
TZOFFSETFROM:+0100
TZOFFSETTO:+0200
TZNAME:CEST
DTSTART:20210328T010000
END:DAYLIGHT
BEGIN:STANDARD
TZOFFSETFROM:+0200
TZOFFSETTO:+0100
TZNAME:CET
DTSTART:20211031T010000
END:STANDARD
BEGIN:DAYLIGHT
TZOFFSETFROM:+0100
TZOFFSETTO:+0200
TZNAME:CEST
DTSTART:20220327T010000
END:DAYLIGHT
BEGIN:STANDARD
TZOFFSETFROM:+0200
TZOFFSETTO:+0100
TZNAME:CET
DTSTART:20221030T010000
END:STANDARD
BEGIN:DAYLIGHT
TZOFFSETFROM:+0100
TZOFFSETTO:+0200
TZNAME:CEST
DTSTART:20230326T010000
END:DAYLIGHT
BEGIN:STANDARD
TZOFFSETFROM:+0200
TZOFFSETTO:+0100
TZNAME:CET
DTSTART:20231029T010000
END:STANDARD
END:VTIMEZONE
BEGIN:VEVENT
DTSTART;TZID=Europe/Madrid:20220711T170000
DTEND;TZID=Europe/Madrid:20220711T203000
DTSTAMP:20260421T203857
CREATED:20220705T112657Z
LAST-MODIFIED:20220705T112657Z
UID:14093-1657558800-1657571400@nueva.betxi.es
SUMMARY:Donació de sang
DESCRIPTION:
URL:https://nueva.betxi.es/event/donacio-de-sang-7/
LOCATION:Centre Públic Municipal de Formació de Persones Adultes\, Av. de Sant Josep Obrer\, 40\, Betxí\, 12549
END:VEVENT
BEGIN:VEVENT
DTSTART;TZID=Europe/Madrid:20220628T000000
DTEND;TZID=Europe/Madrid:20220703T000000
DTSTAMP:20260421T203857
CREATED:20220628T191955Z
LAST-MODIFIED:20220628T191955Z
UID:14054-1656374400-1656806400@nueva.betxi.es
SUMMARY:Betxí orgullós
DESCRIPTION:Activitats organitzades amb motiu del 28 de juny\, Dia Internacional de l’Orgull LGBTIQ+
URL:https://nueva.betxi.es/event/betxi-orgullos/
CATEGORIES:Agenda
ATTACH;FMTTYPE=image/jpeg:https://nueva.betxi.es/wp-content/uploads/2022/06/Betxi_orgullos_banner.jpeg
END:VEVENT
BEGIN:VEVENT
DTSTART;TZID=Europe/Madrid:20220622T180000
DTEND;TZID=Europe/Madrid:20220622T200000
DTSTAMP:20260421T203857
CREATED:20220614T193631Z
LAST-MODIFIED:20220614T193631Z
UID:13974-1655920800-1655928000@nueva.betxi.es
SUMMARY:Imaginem Betxí cap al 2030
DESCRIPTION:El dimecres 22 de juny\, la fundació Novessendes conjuntament amb l’Ajuntament de Betxí\, convoquem la primera sessió participativa per abordar entre totes i tots\, les necessitats i problemàtiques de Betxí. \nEn primer lloc\, farem valdre el treball fet en els darrers anys per les associacions i la ciutadania activa del poble i a continuació posarem en comú quins són els reptes que haurem d’enfrontar els pròxims anys. \nVos esperem en Novessendes\, el 22 de juny a les 18 hores. \nPreguem confirmació omplint el següent formulari o escrivint a info@novessendes.org abans del 17 de juny. \nNo pergues l’oportunitat de dir la teua\, volem que totes les veus estiguen presents! \nAquesta activitat forma part del projecte Observatori social Novessendes: Eines per a la millora de la participació ciutadana\, finançat per la Conselleria de Participació\, Transparència\, Cooperació i Qualitat Democràtica.
URL:https://nueva.betxi.es/event/imaginem-betxi-cap-al-2030/
LOCATION:Fundació Noves Sendes\, Av. 1 de maig\, 23\, Betxí\, 12549\, España
ATTACH;FMTTYPE=image/png:https://nueva.betxi.es/wp-content/uploads/2022/06/imaginem_betxi_2030_banner.png
ORGANIZER;CN="Fundaci%C3%B3 C%C3%ADvica Novessendes":MAILTO:info@novessendes.org
END:VEVENT
BEGIN:VEVENT
DTSTART;TZID=Europe/Madrid:20220527T200000
DTEND;TZID=Europe/Madrid:20220527T220000
DTSTAMP:20260421T203857
CREATED:20220523T062831Z
LAST-MODIFIED:20220523T062831Z
UID:13766-1653681600-1653688800@nueva.betxi.es
SUMMARY:Eugeni Alemany: "En persona guanye"
DESCRIPTION:g
URL:https://nueva.betxi.es/event/eugeni-alemany-en-persona-guanye/
LOCATION:Teatre Municipal de Betxí\, Av. de Joaquín Dualde\, 10\, Betxí\, Castelló\, 12549\, Espanya
CATEGORIES:Teatre
END:VEVENT
BEGIN:VEVENT
DTSTART;TZID=Europe/Madrid:20220520T193000
DTEND;TZID=Europe/Madrid:20220522T193000
DTSTAMP:20260421T203857
CREATED:20220516T091729Z
LAST-MODIFIED:20220516T091729Z
UID:13712-1653075000-1653247800@nueva.betxi.es
SUMMARY:Festival de Guitarra i Vi
DESCRIPTION:
URL:https://nueva.betxi.es/event/festival-de-guitarra-i-vi/
LOCATION:Calvari de Betxí\, Carrer del Calvari\, s/n\, Betxí
CATEGORIES:Concert
END:VEVENT
BEGIN:VEVENT
DTSTART;TZID=Europe/Madrid:20220514T200000
DTEND;TZID=Europe/Madrid:20220514T213000
DTSTAMP:20260421T203857
CREATED:20220509T063914Z
LAST-MODIFIED:20220509T090501Z
UID:13691-1652558400-1652563800@nueva.betxi.es
SUMMARY:Concert de primavera
DESCRIPTION:Al Teatre Municipal\, Concert de primavera i inauguració de l’Himne de Betxí\, a càrrec de la Unió Musical de Betxí.
URL:https://nueva.betxi.es/event/concert-de-primavera/
LOCATION:Teatre Municipal de Betxí\, Av. de Joaquín Dualde\, 10\, Betxí\, Castelló\, 12549\, Espanya
CATEGORIES:Concert
END:VEVENT
BEGIN:VEVENT
DTSTART;TZID=Europe/Madrid:20220508T190000
DTEND;TZID=Europe/Madrid:20220508T210000
DTSTAMP:20260421T203857
CREATED:20220502T071931Z
LAST-MODIFIED:20220502T071931Z
UID:13628-1652036400-1652043600@nueva.betxi.es
SUMMARY:"No somos nada. El documental"
DESCRIPTION:“No somos nada. El documental”\, de Javier Corcuera\, relata la història de la mítica banda ‘La Polla Records’.
URL:https://nueva.betxi.es/event/no-somos-nada-el-documental/
LOCATION:Teatre Municipal de Betxí\, Av. de Joaquín Dualde\, 10\, Betxí\, Castelló\, 12549\, Espanya
CATEGORIES:Cinema
END:VEVENT
BEGIN:VEVENT
DTSTART;TZID=Europe/Madrid:20220507T120000
DTEND;TZID=Europe/Madrid:20220507T120000
DTSTAMP:20260421T203857
CREATED:20220502T062616Z
LAST-MODIFIED:20220502T062616Z
UID:13616-1651924800-1651924800@nueva.betxi.es
SUMMARY:Sant Antoni Pop Festival
DESCRIPTION:[vc_row][vc_column][vc_column_text][/vc_column_text][/vc_column][/vc_row]
URL:https://nueva.betxi.es/event/sant-antoni-pop-festival-2/
LOCATION:Cafeteria Brisamar\, Av. Herminio Pérez\, 4\, Betxí\, 12549
CATEGORIES:Concert
END:VEVENT
BEGIN:VEVENT
DTSTART;TZID=Europe/Madrid:20220305T110000
DTEND;TZID=Europe/Madrid:20220305T140000
DTSTAMP:20260421T203857
CREATED:20220302T073857Z
LAST-MODIFIED:20220302T073857Z
UID:13389-1646478000-1646488800@nueva.betxi.es
SUMMARY:Dones\, dónes. Acte amb motiu del 8 de Març
DESCRIPTION:
URL:https://nueva.betxi.es/event/dones-dones-acte-amb-motiu-del-8-de-marc/
LOCATION:Palau Castell de Betxí\, Plaça Major\, Betxí\, 12549\, España
CATEGORIES:Recital
END:VEVENT
BEGIN:VEVENT
DTSTART;VALUE=DATE:20220218
DTEND;VALUE=DATE:20220307
DTSTAMP:20260421T203857
CREATED:20220210T071912Z
LAST-MODIFIED:20220210T071912Z
UID:13312-1645142400-1646611199@nueva.betxi.es
SUMMARY:IX Ruta de la Tapa
DESCRIPTION:
URL:https://nueva.betxi.es/event/ix-ruta-de-la-tapa/
END:VEVENT
BEGIN:VEVENT
DTSTART;TZID=Europe/Madrid:20220202T193000
DTEND;TZID=Europe/Madrid:20220202T210000
DTSTAMP:20260421T203857
CREATED:20220121T121024Z
LAST-MODIFIED:20220125T085757Z
UID:13228-1643830200-1643835600@nueva.betxi.es
SUMMARY:Ple de l'Ajuntament
DESCRIPTION:Ple de l’Ajuntament de Betxí \nSessió ordinària de 02/02/2022 \nConsulteu la convocatòria i l’ordre del dia
URL:https://nueva.betxi.es/event/ple-de-lajuntament-14/
LOCATION:Saló de Plens de l’Ajuntament de Betxí\, Plaça Major\, 1\, Betxí\, 12549
CATEGORIES:Ajuntament
END:VEVENT
BEGIN:VEVENT
DTSTART;VALUE=DATE:20211212
DTEND;VALUE=DATE:20220106
DTSTAMP:20260421T203857
CREATED:20211207T100307Z
LAST-MODIFIED:20211207T100307Z
UID:13056-1639267200-1641427199@nueva.betxi.es
SUMMARY:Programació de Nadal 2021
DESCRIPTION:
URL:https://nueva.betxi.es/event/programacio-de-nadal-2021/
CATEGORIES:Actualitat,Agenda
END:VEVENT
BEGIN:VEVENT
DTSTART;VALUE=DATE:20211115
DTEND;VALUE=DATE:20211120
DTSTAMP:20260421T203857
CREATED:20211115T093624Z
LAST-MODIFIED:20211115T093641Z
UID:12934-1636934400-1637366399@nueva.betxi.es
SUMMARY:Classificacions VII TRAIL PICS BETXI i VI MARXA PICS DE BETXÍ
DESCRIPTION:Classificacions\n\n\n\n\n\n\nVII TRAIL PICS BETXI i VI MARXA PICS DE BETXÍ\n\n\n\n\n\n\nhttps://www.urbanrunningcastellon.com/portfolio-view/5k-betxi/
URL:https://nueva.betxi.es/event/12934/
LOCATION:Plaça Major\, Plaça Major\, Betxí\, 12549
CATEGORIES:Actualitat
END:VEVENT
BEGIN:VEVENT
DTSTART;TZID=Europe/Madrid:20211114T090000
DTEND;TZID=Europe/Madrid:20211114T090000
DTSTAMP:20260421T203857
CREATED:20210927T173950Z
LAST-MODIFIED:20210927T175425Z
UID:12588-1636880400-1636880400@nueva.betxi.es
SUMMARY:7è Trail i 6ª Marxa Pics de Betxí
DESCRIPTION:Inscripcions
URL:https://nueva.betxi.es/event/7e-trail-i-6a-marxa-pics-de-betxi/
LOCATION:Plaça Major\, Plaça Major\, Betxí\, 12549
CATEGORIES:Esports
END:VEVENT
BEGIN:VEVENT
DTSTART;TZID=Europe/Madrid:20211113T190000
DTEND;TZID=Europe/Madrid:20211113T190000
DTSTAMP:20260421T203857
CREATED:20211110T120743Z
LAST-MODIFIED:20211110T121010Z
UID:12909-1636830000-1636830000@nueva.betxi.es
SUMMARY:Festival Ciutadà Compromés
DESCRIPTION:Projecció d’una sessió del Festival
URL:https://nueva.betxi.es/event/festival-ciutada-compromes/
LOCATION:Teatre Municipal de Betxí\, Av. de Joaquín Dualde\, 10\, Betxí\, Castelló\, 12549\, Espanya
CATEGORIES:Cinema
END:VEVENT
BEGIN:VEVENT
DTSTART;TZID=Europe/Madrid:20211112T193000
DTEND;TZID=Europe/Madrid:20211112T193000
DTSTAMP:20260421T203857
CREATED:20211108T101132Z
LAST-MODIFIED:20211110T120528Z
UID:12849-1636745400-1636745400@nueva.betxi.es
SUMMARY:VIII Gala de l'Esport Local
DESCRIPTION:El dia 12 de novembre a les 19:30h es celebrarà la VIII Gala de l’esport local a l’Auditori de Betxí. \nEls premiats han sigut: \n🏅Dani Escriche\, com a millor esportista\n🏅Equip Amateur del C.D. Betxí\, com a millor equip\n🏅Saul López\, com a esportista revelació\n🏅Paco Meneu\, David Archelós i Ana Chiva\, premiats per una trajectoria esportiva\n🎖️Menció honorífica a tots els esportistes locals\, afectats per les conseqüencies del COVID \n🎟️ L’entrada serà lliure fins completar l’aforament.
URL:https://nueva.betxi.es/event/viii-gala-de-lesport-local/
LOCATION:Teatre Municipal de Betxí\, Av. de Joaquín Dualde\, 10\, Betxí\, Castelló\, 12549\, Espanya
CATEGORIES:Esports
END:VEVENT
BEGIN:VEVENT
DTSTART;TZID=Europe/Madrid:20211112T170000
DTEND;TZID=Europe/Madrid:20211112T203000
DTSTAMP:20260421T203857
CREATED:20211108T101532Z
LAST-MODIFIED:20211108T101532Z
UID:12851-1636736400-1636749000@nueva.betxi.es
SUMMARY:Donació de sang
DESCRIPTION:
URL:https://nueva.betxi.es/event/donacio-de-sang-6/
LOCATION:Centre Públic Municipal de Formació de Persones Adultes\, Av. de Sant Josep Obrer\, 40\, Betxí\, 12549
CATEGORIES:Agenda
END:VEVENT
BEGIN:VEVENT
DTSTART;TZID=Europe/Madrid:20211107T183000
DTEND;TZID=Europe/Madrid:20211107T183000
DTSTAMP:20260421T203857
CREATED:20211103T184310Z
LAST-MODIFIED:20211103T184310Z
UID:12841-1636309800-1636309800@nueva.betxi.es
SUMMARY:Novembre poètic
DESCRIPTION:[vc_row][vc_column][vc_column_text]– Durant el mes de novembre\, diferents poemes s’exposaran pel casc vell del municipi[/vc_column_text][/vc_column][/vc_row][vc_row gap=»10″][vc_column width=»1/2″][vc_column_text] \nL’Ajuntament de Betxí ha posat en marxa la iniciativa «Novembre Poètic”\, amb la qual es pretén fomentar i acostar la poesia a les veïnes i veïns de la localitat de manera original i comptant amb la col·laboració ciutadana. \nDurant el mes de novembre\, s’exposaran diversos poemes impresos pels principals carrers del barri antic de la localitat. A més\, alguns residents del municipi tindran un paper actiu en aquest projecte\, ja que les obres han estat triades i recitades per ells. \nLa Plaça Major\, la Plaça de l’Església\, la Plaça de Sant Joan i els carrers pròxims seran els llocs on s’exhibiran les poesies. En els impresos apareix el nom de l’obra\, l’autor i la betxinenca o betxinenc que ha triat el poema. A més\, un codi QR\, que es pot escanejar\, dóna accés a un vídeo on es poden veure les poesies recitades. \nD’altra banda\, el diumenge 7 de novembre tindrà lloc l’acte de presentació de la iniciativa en el Palau-Castell de Betxí a les 18.30 hores. En aquest esdeveniment es recitaran tots els poemes que participen en ‘Novembre Poètic’. \n[/vc_column_text][/vc_column][vc_column width=»1/2″][vc_column_text][/vc_column_text][/vc_column][/vc_row]
URL:https://nueva.betxi.es/event/novembre-poetic/
LOCATION:Palau Castell de Betxí\, Plaça Major\, Betxí\, 12549\, España
CATEGORIES:Recital
END:VEVENT
BEGIN:VEVENT
DTSTART;TZID=Europe/Madrid:20211105T190000
DTEND;TZID=Europe/Madrid:20211105T190000
DTSTAMP:20260421T203857
CREATED:20211103T184708Z
LAST-MODIFIED:20211103T184708Z
UID:12843-1636138800-1636138800@nueva.betxi.es
SUMMARY:Teatre: "La barca"\, companyia "La Larvària".
DESCRIPTION:Teatre per a tots els públics amb l’obra «La barca»\, de la companyia La Larvària. \n 
URL:https://nueva.betxi.es/event/teatre-la-barca-companyia-la-larvaria/
LOCATION:Palau Castell de Betxí\, Plaça Major\, Betxí\, 12549\, España
CATEGORIES:Teatre
END:VEVENT
BEGIN:VEVENT
DTSTART;TZID=Europe/Madrid:20211027T193000
DTEND;TZID=Europe/Madrid:20211027T193000
DTSTAMP:20260421T203857
CREATED:20211022T162215Z
LAST-MODIFIED:20211022T162215Z
UID:12790-1635363000-1635363000@nueva.betxi.es
SUMMARY:Ple de l'Ajuntament
DESCRIPTION:Ple de l’Ajuntament de Betxí \nSessió de caràcter ordinari\, núm. PLN 2021/11\, de 27/10/2021 \n>> Anunci de la convocatòria
URL:https://nueva.betxi.es/event/ple-de-lajuntament-13/
LOCATION:Saló de Plens de l’Ajuntament de Betxí\, Plaça Major\, 1\, Betxí\, 12549
CATEGORIES:Ajuntament
END:VEVENT
BEGIN:VEVENT
DTSTART;TZID=Europe/Madrid:20211023T190000
DTEND;TZID=Europe/Madrid:20211023T190000
DTSTAMP:20260421T203857
CREATED:20211022T064636Z
LAST-MODIFIED:20211022T064636Z
UID:12781-1635015600-1635015600@nueva.betxi.es
SUMMARY:Presentació del CD "Sóna Betxí"\, per Rubén Franch
DESCRIPTION:El CD ‘Sóna Betxí es presentarà el dissabte 23 d’octubre en el Teatre Municipal\n\n– És un recopilatori de cançons tradicionals de la localitat versionades\n\nL’Ajuntament de Betxí organitza el pròxim dissabte 23 d’octubre el concert de presentació del CD ‘Sóna Betxí’. L’espectacle tindrà lloc en el Teatre Municipal a les 19.00 hores i les entrades tenen un preu de 5 euros\, que inclou l’accés a l’esdeveniment i es regalarà un exemplar del CD. \n‘Sóna Betxí’ és un projecte de Rubén Franch\, integrant del grup local Moron Five\, que ha recuperat diferents cançons tradicionals de Betxí i les ha versionat a altres estils com pop i rock\, juntament amb altres artistes locals i un grup de deu músics. \nL’alcalde del municipi\, Alfred Remolar\, ha assenyalat que “es tracta d’una proposta molt original\, que dóna veu a cançons populars de la localitat i segur que tant el CD com la presentació tindran un gran acolliment per part dels veïns”. \nLes entrades per al concert es poden adquirir en l’antic Casal Jove en la Plaça de Manuel Escobedo\, fins al divendres 22 d’octubre\, des de les 17 a les 20 hores.
URL:https://nueva.betxi.es/event/presentacio-del-cd-sona-betxi-per-ruben-franch/
LOCATION:Teatre Municipal de Betxí\, Av. de Joaquín Dualde\, 10\, Betxí\, Castelló\, 12549\, Espanya
CATEGORIES:Concert
END:VEVENT
BEGIN:VEVENT
DTSTART;TZID=Europe/Madrid:20211013T173000
DTEND;TZID=Europe/Madrid:20211016T170000
DTSTAMP:20260421T203857
CREATED:20211008T114010Z
LAST-MODIFIED:20211008T114010Z
UID:12660-1634146200-1634403600@nueva.betxi.es
SUMMARY:II Setmana de la Sostenibilitat
DESCRIPTION:Programa \nDimecres 13 d’octubre / Iniciatives locals de sostenibilitat \n17:30 h Seguiment de la comunitat d’aus de l’espai natural del riu. \n\nTaller pràctic de cens d’aus. A càrrec de Joan Castany i Àlvaro\, coordinador de l’Associació Grup Au d’Ornitologia de Castelló.\n\nLloc: Pont entrada Betxí / Fundació Novessendes \n18:45 h Presentació d’iniciatives locals. \n\nEl riu Sec\, actiu de sostenibilitat per a Betxí. A càrrec de Júlia Pineda i Jaume Puchalt (Crearqció)\, equip director de l’Estratègia participada de recuperació de l’hàbitat fluvial del Riu Sec.\n\n\nComunitat energètica local; Transició energètica i procés de descarbonització 2050. A càrrec de Vicent Garcia (Sapiens Energia).\n\nLloc: Fundació Novessendes \nDijous 14 d’octubre / Agricultura sostenible  \n18:00 h Cap a un sistema agrari sostenible a la província de Castelló. Polítiques agràries i bones pràctiques de producció agrària sostenible. \n\nAlberto Garcia\, Tècnic del Servei de Producció Ecològica i Innovació. Estació Experimental Agrària de Vila-real\n\n\nTaula redona amb representants del sector agroecològic\, productores i entitats\, de la província de Castelló.\n\nLloc: En línea / Fundació Novessendes \nDivendres 15 d’octubre /Alimentació saludable i sostenible \n18:00 h Podem alimentar-nos d’una forma saludable i cuidar de les persones i el planeta? \n\nDiscurs d’apertura de l’acte. A càrrec de Pau Josep Ferrando Tárrega\, diputat provincial.\n\n\nPresentació de l’estratègia europea “De la Granja a la Taula”. A càrrec de Teresa Tena Marmaneu\, responsable del Centre Europe Direct Castelló.\n\n\nTaller pràctic d’alimentació saludable i sostenible. A càrrec de Cuinatur.\n\nLloc: Palau-Castell de Betxí \nDissabte 16 d’octubre / Horta del Rajolar \n10:00 h Jornada de Portes obertes a l’Horta del Rajolar \n\nVisites guiades al projecte d’agricultura social l’Horta del Rajolar.\n\n\nTallers per a infants. A càrrec de l’Associació Connecta Natura.\n\n\nDegustació de productes de l’horta.\n\nLloc: Horta del Rajolar \nEls actes presencials es realitzaran amb les mesures sanitàries pertinents\, en grups reduïts i ús de mascareta. \nTotes les activitats són gratuïtes\, requereixen inscripció prèvia\, i tindran un aforament limitat.  \nJa podeu fer la inscripció ací. \n 
URL:https://nueva.betxi.es/event/ii-setmana-de-la-sostenibilitat/
LOCATION:Fundació Noves Sendes\, Av. 1 de maig\, 23\, Betxí\, 12549\, España
ORGANIZER;CN="Fundaci%C3%B3 C%C3%ADvica Novessendes":MAILTO:info@novessendes.org
END:VEVENT
BEGIN:VEVENT
DTSTART;TZID=Europe/Madrid:20211008T220000
DTEND;TZID=Europe/Madrid:20211008T220000
DTSTAMP:20260421T203857
CREATED:20211002T105908Z
LAST-MODIFIED:20211002T105908Z
UID:12622-1633730400-1633730400@nueva.betxi.es
SUMMARY:Premis "Betxinencs de l'any"
DESCRIPTION:
URL:https://nueva.betxi.es/event/premis-betxinencs-de-lany/
LOCATION:Cafeteria Brisamar\, Av. Herminio Pérez\, 4\, Betxí\, 12549
CATEGORIES:Actualitat
END:VEVENT
BEGIN:VEVENT
DTSTART;TZID=Europe/Madrid:20211003T090000
DTEND;TZID=Europe/Madrid:20211003T090000
DTSTAMP:20260421T203857
CREATED:20211002T110328Z
LAST-MODIFIED:20211002T110328Z
UID:12625-1633251600-1633251600@nueva.betxi.es
SUMMARY:5K Betxí
DESCRIPTION:
URL:https://nueva.betxi.es/event/5k-betxi/
LOCATION:Plaça Major\, Plaça Major\, Betxí\, 12549
CATEGORIES:Esports
END:VEVENT
BEGIN:VEVENT
DTSTART;TZID=Europe/Madrid:20210930T080000
DTEND;TZID=Europe/Madrid:20210930T090000
DTSTAMP:20260421T203857
CREATED:20210927T054142Z
LAST-MODIFIED:20210927T174232Z
UID:12579-1632988800-1632992400@nueva.betxi.es
SUMMARY:Junta de Govern Local
DESCRIPTION:Junta de Govern Local de l’Ajuntament de Betxí \nSessió de caràcter ordinari\, núm. JGL 2021/20\, de 30/09/2021 \n>> Anunci de la convocatòria
URL:https://nueva.betxi.es/event/junta-de-govern-local-2/
LOCATION:Saló de Plens de l’Ajuntament de Betxí\, Plaça Major\, 1\, Betxí\, 12549
CATEGORIES:Ajuntament
END:VEVENT
BEGIN:VEVENT
DTSTART;TZID=Europe/Madrid:20210929T193000
DTEND;TZID=Europe/Madrid:20210929T210000
DTSTAMP:20260421T203857
CREATED:20210927T053553Z
LAST-MODIFIED:20210927T054001Z
UID:12574-1632943800-1632949200@nueva.betxi.es
SUMMARY:Ple de l'Ajuntament
DESCRIPTION:Ple de l’Ajuntament de Betxí \nSessió de caràcter ordinari\, núm. PLN 2021/9\, de 29/09/2021 \n>> Anunci de la convocatòria
URL:https://nueva.betxi.es/event/ple-de-lajuntament-12/
LOCATION:Teatre Municipal de Betxí\, Av. de Joaquín Dualde\, 10\, Betxí\, Castelló\, 12549\, Espanya
CATEGORIES:Ajuntament
END:VEVENT
BEGIN:VEVENT
DTSTART;TZID=Europe/Madrid:20210925T223000
DTEND;TZID=Europe/Madrid:20210925T223000
DTSTAMP:20260421T203857
CREATED:20210819T170346Z
LAST-MODIFIED:20210819T170346Z
UID:12404-1632609000-1632609000@nueva.betxi.es
SUMMARY:Concert - Mikel Erentxun
DESCRIPTION:[vc_row][vc_column][vc_column_text] \nDia: 25 de setembre de 2021\nHora: 22:30h\nLloc: Frontó Municipal \nVenda d’entrades \nEs podran adquirir un màxim de 5 entrades en cada compra.\nLes entrades seran nominatives\, haureu d’afegir les dades del titular de cada entrada durant el procés de paga[/vc_column_text][/vc_column][/vc_row][vc_row][vc_column][vc_btn title=»Venda d’entrades» link=»url:https%3A%2F%2Fentrades.betxi.es%2Fproducto%2Fmikel-erentxun%2F|title:Venda%20d’entrades|target:_blank»][/vc_column][/vc_row]
URL:https://nueva.betxi.es/event/concert-mikel-erentxun/
LOCATION:Frontó Municipal de Betxí\, Av. de Sant Josep Obrer\, 94\, Betxí\, 12549
CATEGORIES:Concert
END:VEVENT
BEGIN:VEVENT
DTSTART;TZID=Europe/Madrid:20210918T223000
DTEND;TZID=Europe/Madrid:20210918T223000
DTSTAMP:20260421T203857
CREATED:20210825T080728Z
LAST-MODIFIED:20210825T080904Z
UID:12410-1632004200-1632004200@nueva.betxi.es
SUMMARY:La Fúmiga
DESCRIPTION:[vc_row][vc_column][vc_column_text] \nDia: 18 de setembre de 2021\nHora: 22:30h\nLloc: Frontó Municipal \nEs podran adquirir un màxim de 5 entrades en cada compra.\nLes entrades seran nominatives\, haureu d’afegir les dades del titular de cada entrada durant el procés de pagament.[/vc_column_text][/vc_column][/vc_row][vc_row][vc_column][vc_btn title=»Venda d’entrades» link=»url:https%3A%2F%2Fentrades.betxi.es%2Fproducto%2Fla-fumiga%2F|title:Venda%20d’entrades|target:_blank»][/vc_column][/vc_row]
URL:https://nueva.betxi.es/event/la-fumiga/
LOCATION:Frontó Municipal de Betxí\, Av. de Sant Josep Obrer\, 94\, Betxí\, 12549
CATEGORIES:Concert
END:VEVENT
BEGIN:VEVENT
DTSTART;TZID=Europe/Madrid:20210912T190000
DTEND;TZID=Europe/Madrid:20210912T210000
DTSTAMP:20260421T203857
CREATED:20210906T112550Z
LAST-MODIFIED:20210906T112550Z
UID:12483-1631473200-1631480400@nueva.betxi.es
SUMMARY:Cinema solidari contra el càncer
DESCRIPTION:
URL:https://nueva.betxi.es/event/cinema-solidari-contra-el-cancer/
LOCATION:Teatre Municipal de Betxí\, Av. de Joaquín Dualde\, 10\, Betxí\, Castelló\, 12549\, Espanya
CATEGORIES:Cinema
END:VEVENT
BEGIN:VEVENT
DTSTART;TZID=Europe/Madrid:20210911T193000
DTEND;TZID=Europe/Madrid:20210911T210000
DTSTAMP:20260421T203857
CREATED:20210903T075250Z
LAST-MODIFIED:20210903T075250Z
UID:12464-1631388600-1631394000@nueva.betxi.es
SUMMARY:TT Sindicate
DESCRIPTION:
URL:https://nueva.betxi.es/event/tt-sindicate/
LOCATION:Muntanyeta de Sant Antoni\, Betxí\, 12549
CATEGORIES:Concert
END:VEVENT
END:VCALENDAR