BEGIN:VCALENDAR
VERSION:2.0
PRODID:-//Ajuntament de Betxí - ECPv6.15.14//NONSGML v1.0//EN
CALSCALE:GREGORIAN
METHOD:PUBLISH
X-WR-CALNAME:Ajuntament de Betxí
X-ORIGINAL-URL:https://nueva.betxi.es
X-WR-CALDESC:Eventos para Ajuntament de Betxí
REFRESH-INTERVAL;VALUE=DURATION:PT1H
X-Robots-Tag:noindex
X-PUBLISHED-TTL:PT1H
BEGIN:VTIMEZONE
TZID:Europe/Madrid
BEGIN:DAYLIGHT
TZOFFSETFROM:+0100
TZOFFSETTO:+0200
TZNAME:CEST
DTSTART:20190331T010000
END:DAYLIGHT
BEGIN:STANDARD
TZOFFSETFROM:+0200
TZOFFSETTO:+0100
TZNAME:CET
DTSTART:20191027T010000
END:STANDARD
BEGIN:DAYLIGHT
TZOFFSETFROM:+0100
TZOFFSETTO:+0200
TZNAME:CEST
DTSTART:20200329T010000
END:DAYLIGHT
BEGIN:STANDARD
TZOFFSETFROM:+0200
TZOFFSETTO:+0100
TZNAME:CET
DTSTART:20201025T010000
END:STANDARD
BEGIN:DAYLIGHT
TZOFFSETFROM:+0100
TZOFFSETTO:+0200
TZNAME:CEST
DTSTART:20210328T010000
END:DAYLIGHT
BEGIN:STANDARD
TZOFFSETFROM:+0200
TZOFFSETTO:+0100
TZNAME:CET
DTSTART:20211031T010000
END:STANDARD
BEGIN:DAYLIGHT
TZOFFSETFROM:+0100
TZOFFSETTO:+0200
TZNAME:CEST
DTSTART:20220327T010000
END:DAYLIGHT
BEGIN:STANDARD
TZOFFSETFROM:+0200
TZOFFSETTO:+0100
TZNAME:CET
DTSTART:20221030T010000
END:STANDARD
END:VTIMEZONE
BEGIN:VEVENT
DTSTART;TZID=Europe/Madrid:20211023T190000
DTEND;TZID=Europe/Madrid:20211023T190000
DTSTAMP:20260422T021324
CREATED:20211022T064636Z
LAST-MODIFIED:20211022T064636Z
UID:12781-1635015600-1635015600@nueva.betxi.es
SUMMARY:Presentació del CD "Sóna Betxí"\, per Rubén Franch
DESCRIPTION:El CD ‘Sóna Betxí es presentarà el dissabte 23 d’octubre en el Teatre Municipal\n\n– És un recopilatori de cançons tradicionals de la localitat versionades\n\nL’Ajuntament de Betxí organitza el pròxim dissabte 23 d’octubre el concert de presentació del CD ‘Sóna Betxí’. L’espectacle tindrà lloc en el Teatre Municipal a les 19.00 hores i les entrades tenen un preu de 5 euros\, que inclou l’accés a l’esdeveniment i es regalarà un exemplar del CD. \n‘Sóna Betxí’ és un projecte de Rubén Franch\, integrant del grup local Moron Five\, que ha recuperat diferents cançons tradicionals de Betxí i les ha versionat a altres estils com pop i rock\, juntament amb altres artistes locals i un grup de deu músics. \nL’alcalde del municipi\, Alfred Remolar\, ha assenyalat que “es tracta d’una proposta molt original\, que dóna veu a cançons populars de la localitat i segur que tant el CD com la presentació tindran un gran acolliment per part dels veïns”. \nLes entrades per al concert es poden adquirir en l’antic Casal Jove en la Plaça de Manuel Escobedo\, fins al divendres 22 d’octubre\, des de les 17 a les 20 hores.
URL:https://nueva.betxi.es/event/presentacio-del-cd-sona-betxi-per-ruben-franch/
LOCATION:Teatre Municipal de Betxí\, Av. de Joaquín Dualde\, 10\, Betxí\, Castelló\, 12549\, Espanya
CATEGORIES:Concert
END:VEVENT
BEGIN:VEVENT
DTSTART;TZID=Europe/Madrid:20211013T173000
DTEND;TZID=Europe/Madrid:20211016T170000
DTSTAMP:20260422T021324
CREATED:20211008T114010Z
LAST-MODIFIED:20211008T114010Z
UID:12660-1634146200-1634403600@nueva.betxi.es
SUMMARY:II Setmana de la Sostenibilitat
DESCRIPTION:Programa \nDimecres 13 d’octubre / Iniciatives locals de sostenibilitat \n17:30 h Seguiment de la comunitat d’aus de l’espai natural del riu. \n\nTaller pràctic de cens d’aus. A càrrec de Joan Castany i Àlvaro\, coordinador de l’Associació Grup Au d’Ornitologia de Castelló.\n\nLloc: Pont entrada Betxí / Fundació Novessendes \n18:45 h Presentació d’iniciatives locals. \n\nEl riu Sec\, actiu de sostenibilitat per a Betxí. A càrrec de Júlia Pineda i Jaume Puchalt (Crearqció)\, equip director de l’Estratègia participada de recuperació de l’hàbitat fluvial del Riu Sec.\n\n\nComunitat energètica local; Transició energètica i procés de descarbonització 2050. A càrrec de Vicent Garcia (Sapiens Energia).\n\nLloc: Fundació Novessendes \nDijous 14 d’octubre / Agricultura sostenible  \n18:00 h Cap a un sistema agrari sostenible a la província de Castelló. Polítiques agràries i bones pràctiques de producció agrària sostenible. \n\nAlberto Garcia\, Tècnic del Servei de Producció Ecològica i Innovació. Estació Experimental Agrària de Vila-real\n\n\nTaula redona amb representants del sector agroecològic\, productores i entitats\, de la província de Castelló.\n\nLloc: En línea / Fundació Novessendes \nDivendres 15 d’octubre /Alimentació saludable i sostenible \n18:00 h Podem alimentar-nos d’una forma saludable i cuidar de les persones i el planeta? \n\nDiscurs d’apertura de l’acte. A càrrec de Pau Josep Ferrando Tárrega\, diputat provincial.\n\n\nPresentació de l’estratègia europea “De la Granja a la Taula”. A càrrec de Teresa Tena Marmaneu\, responsable del Centre Europe Direct Castelló.\n\n\nTaller pràctic d’alimentació saludable i sostenible. A càrrec de Cuinatur.\n\nLloc: Palau-Castell de Betxí \nDissabte 16 d’octubre / Horta del Rajolar \n10:00 h Jornada de Portes obertes a l’Horta del Rajolar \n\nVisites guiades al projecte d’agricultura social l’Horta del Rajolar.\n\n\nTallers per a infants. A càrrec de l’Associació Connecta Natura.\n\n\nDegustació de productes de l’horta.\n\nLloc: Horta del Rajolar \nEls actes presencials es realitzaran amb les mesures sanitàries pertinents\, en grups reduïts i ús de mascareta. \nTotes les activitats són gratuïtes\, requereixen inscripció prèvia\, i tindran un aforament limitat.  \nJa podeu fer la inscripció ací. \n 
URL:https://nueva.betxi.es/event/ii-setmana-de-la-sostenibilitat/
LOCATION:Fundació Noves Sendes\, Av. 1 de maig\, 23\, Betxí\, 12549\, España
ORGANIZER;CN="Fundaci%C3%B3 C%C3%ADvica Novessendes":MAILTO:info@novessendes.org
END:VEVENT
BEGIN:VEVENT
DTSTART;TZID=Europe/Madrid:20211008T220000
DTEND;TZID=Europe/Madrid:20211008T220000
DTSTAMP:20260422T021324
CREATED:20211002T105908Z
LAST-MODIFIED:20211002T105908Z
UID:12622-1633730400-1633730400@nueva.betxi.es
SUMMARY:Premis "Betxinencs de l'any"
DESCRIPTION:
URL:https://nueva.betxi.es/event/premis-betxinencs-de-lany/
LOCATION:Cafeteria Brisamar\, Av. Herminio Pérez\, 4\, Betxí\, 12549
CATEGORIES:Actualitat
END:VEVENT
BEGIN:VEVENT
DTSTART;TZID=Europe/Madrid:20211003T090000
DTEND;TZID=Europe/Madrid:20211003T090000
DTSTAMP:20260422T021324
CREATED:20211002T110328Z
LAST-MODIFIED:20211002T110328Z
UID:12625-1633251600-1633251600@nueva.betxi.es
SUMMARY:5K Betxí
DESCRIPTION:
URL:https://nueva.betxi.es/event/5k-betxi/
LOCATION:Plaça Major\, Plaça Major\, Betxí\, 12549
CATEGORIES:Esports
END:VEVENT
BEGIN:VEVENT
DTSTART;TZID=Europe/Madrid:20210930T080000
DTEND;TZID=Europe/Madrid:20210930T090000
DTSTAMP:20260422T021324
CREATED:20210927T054142Z
LAST-MODIFIED:20210927T174232Z
UID:12579-1632988800-1632992400@nueva.betxi.es
SUMMARY:Junta de Govern Local
DESCRIPTION:Junta de Govern Local de l’Ajuntament de Betxí \nSessió de caràcter ordinari\, núm. JGL 2021/20\, de 30/09/2021 \n>> Anunci de la convocatòria
URL:https://nueva.betxi.es/event/junta-de-govern-local-2/
LOCATION:Saló de Plens de l’Ajuntament de Betxí\, Plaça Major\, 1\, Betxí\, 12549
CATEGORIES:Ajuntament
END:VEVENT
BEGIN:VEVENT
DTSTART;TZID=Europe/Madrid:20210929T193000
DTEND;TZID=Europe/Madrid:20210929T210000
DTSTAMP:20260422T021324
CREATED:20210927T053553Z
LAST-MODIFIED:20210927T054001Z
UID:12574-1632943800-1632949200@nueva.betxi.es
SUMMARY:Ple de l'Ajuntament
DESCRIPTION:Ple de l’Ajuntament de Betxí \nSessió de caràcter ordinari\, núm. PLN 2021/9\, de 29/09/2021 \n>> Anunci de la convocatòria
URL:https://nueva.betxi.es/event/ple-de-lajuntament-12/
LOCATION:Teatre Municipal de Betxí\, Av. de Joaquín Dualde\, 10\, Betxí\, Castelló\, 12549\, Espanya
CATEGORIES:Ajuntament
END:VEVENT
BEGIN:VEVENT
DTSTART;TZID=Europe/Madrid:20210925T223000
DTEND;TZID=Europe/Madrid:20210925T223000
DTSTAMP:20260422T021325
CREATED:20210819T170346Z
LAST-MODIFIED:20210819T170346Z
UID:12404-1632609000-1632609000@nueva.betxi.es
SUMMARY:Concert - Mikel Erentxun
DESCRIPTION:[vc_row][vc_column][vc_column_text] \nDia: 25 de setembre de 2021\nHora: 22:30h\nLloc: Frontó Municipal \nVenda d’entrades \nEs podran adquirir un màxim de 5 entrades en cada compra.\nLes entrades seran nominatives\, haureu d’afegir les dades del titular de cada entrada durant el procés de paga[/vc_column_text][/vc_column][/vc_row][vc_row][vc_column][vc_btn title=»Venda d’entrades» link=»url:https%3A%2F%2Fentrades.betxi.es%2Fproducto%2Fmikel-erentxun%2F|title:Venda%20d’entrades|target:_blank»][/vc_column][/vc_row]
URL:https://nueva.betxi.es/event/concert-mikel-erentxun/
LOCATION:Frontó Municipal de Betxí\, Av. de Sant Josep Obrer\, 94\, Betxí\, 12549
CATEGORIES:Concert
END:VEVENT
BEGIN:VEVENT
DTSTART;TZID=Europe/Madrid:20210918T223000
DTEND;TZID=Europe/Madrid:20210918T223000
DTSTAMP:20260422T021325
CREATED:20210825T080728Z
LAST-MODIFIED:20210825T080904Z
UID:12410-1632004200-1632004200@nueva.betxi.es
SUMMARY:La Fúmiga
DESCRIPTION:[vc_row][vc_column][vc_column_text] \nDia: 18 de setembre de 2021\nHora: 22:30h\nLloc: Frontó Municipal \nEs podran adquirir un màxim de 5 entrades en cada compra.\nLes entrades seran nominatives\, haureu d’afegir les dades del titular de cada entrada durant el procés de pagament.[/vc_column_text][/vc_column][/vc_row][vc_row][vc_column][vc_btn title=»Venda d’entrades» link=»url:https%3A%2F%2Fentrades.betxi.es%2Fproducto%2Fla-fumiga%2F|title:Venda%20d’entrades|target:_blank»][/vc_column][/vc_row]
URL:https://nueva.betxi.es/event/la-fumiga/
LOCATION:Frontó Municipal de Betxí\, Av. de Sant Josep Obrer\, 94\, Betxí\, 12549
CATEGORIES:Concert
END:VEVENT
BEGIN:VEVENT
DTSTART;TZID=Europe/Madrid:20210912T190000
DTEND;TZID=Europe/Madrid:20210912T210000
DTSTAMP:20260422T021325
CREATED:20210906T112550Z
LAST-MODIFIED:20210906T112550Z
UID:12483-1631473200-1631480400@nueva.betxi.es
SUMMARY:Cinema solidari contra el càncer
DESCRIPTION:
URL:https://nueva.betxi.es/event/cinema-solidari-contra-el-cancer/
LOCATION:Teatre Municipal de Betxí\, Av. de Joaquín Dualde\, 10\, Betxí\, Castelló\, 12549\, Espanya
CATEGORIES:Cinema
END:VEVENT
BEGIN:VEVENT
DTSTART;TZID=Europe/Madrid:20210911T193000
DTEND;TZID=Europe/Madrid:20210911T210000
DTSTAMP:20260422T021325
CREATED:20210903T075250Z
LAST-MODIFIED:20210903T075250Z
UID:12464-1631388600-1631394000@nueva.betxi.es
SUMMARY:TT Sindicate
DESCRIPTION:
URL:https://nueva.betxi.es/event/tt-sindicate/
LOCATION:Muntanyeta de Sant Antoni\, Betxí\, 12549
CATEGORIES:Concert
END:VEVENT
BEGIN:VEVENT
DTSTART;TZID=Europe/Madrid:20210910T190000
DTEND;TZID=Europe/Madrid:20210910T190000
DTSTAMP:20260422T021325
CREATED:20210909T122850Z
LAST-MODIFIED:20210909T122850Z
UID:12499-1631300400-1631300400@nueva.betxi.es
SUMMARY:Inauguració de les obres de la Muntanyeta de Sant Antoni
DESCRIPTION:
URL:https://nueva.betxi.es/event/inauguracio-de-les-obres-de-la-muntanyeta-de-sant-antoni/
LOCATION:Muntanyeta de Sant Antoni\, Betxí\, 12549
CATEGORIES:Agenda,Ajuntament
END:VEVENT
BEGIN:VEVENT
DTSTART;VALUE=DATE:20210910
DTEND;VALUE=DATE:20210927
DTSTAMP:20260422T021325
CREATED:20210914T063429Z
LAST-MODIFIED:20210914T063429Z
UID:12507-1631232000-1632700799@nueva.betxi.es
SUMMARY:Actes culturals i festius setembre 2021
DESCRIPTION:Accediu al web de festes \nhttp://festes.betxi.es/
URL:https://nueva.betxi.es/event/actes-culturals-i-festius-setembre-2021/
CATEGORIES:Festes
END:VEVENT
BEGIN:VEVENT
DTSTART;TZID=Europe/Madrid:20210903T190000
DTEND;TZID=Europe/Madrid:20210905T193000
DTSTAMP:20260422T021325
CREATED:20210827T110418Z
LAST-MODIFIED:20210827T110651Z
UID:12420-1630695600-1630870200@nueva.betxi.es
SUMMARY:Bagatge. 23è Festival de Circ - Teatre
DESCRIPTION:
URL:https://nueva.betxi.es/event/bagatge-23e-festival-circ-teatre/
LOCATION:Frontó Municipal de Betxí\, Av. de Sant Josep Obrer\, 94\, Betxí\, 12549
CATEGORIES:Teatre
END:VEVENT
BEGIN:VEVENT
DTSTART;TZID=Europe/Madrid:20210902T170000
DTEND;TZID=Europe/Madrid:20210902T203000
DTSTAMP:20260422T021325
CREATED:20210831T113541Z
LAST-MODIFIED:20210831T113541Z
UID:12435-1630602000-1630614600@nueva.betxi.es
SUMMARY:Donació de sang
DESCRIPTION:
URL:https://nueva.betxi.es/event/donacio-de-sang-5/
LOCATION:Centre Públic Municipal de Formació de Persones Adultes\, Av. de Sant Josep Obrer\, 40\, Betxí\, 12549
CATEGORIES:Actualitat,Agenda
END:VEVENT
BEGIN:VEVENT
DTSTART;TZID=Europe/Madrid:20210717T190000
DTEND;TZID=Europe/Madrid:20210717T210000
DTSTAMP:20260422T021325
CREATED:20210714T091924Z
LAST-MODIFIED:20210716T144346Z
UID:12298-1626548400-1626555600@nueva.betxi.es
SUMMARY:Concert
DESCRIPTION:CONCERT\n Dissabte\, 17 de juliol de 2021\nA les 19 h en la Teatre Municipal de Betxí\n\nEntrada gratuïta fins a completar l’aforament\nEs poden recollir en la biblioteca o en taquilla a l’hora del concert.
URL:https://nueva.betxi.es/event/concert/
LOCATION:Teatre Municipal de Betxí\, Av. de Joaquín Dualde\, 10\, Betxí\, Castelló\, 12549\, Espanya
CATEGORIES:Concert
END:VEVENT
BEGIN:VEVENT
DTSTART;TZID=Europe/Madrid:20210717T083000
DTEND;TZID=Europe/Madrid:20210717T133000
DTSTAMP:20260422T021325
CREATED:20210716T122021Z
LAST-MODIFIED:20210716T122021Z
UID:12320-1626510600-1626528600@nueva.betxi.es
SUMMARY:Ecoparc mòbil
DESCRIPTION:L’Ajuntament de Betxí acollirà el pròxim 17 de juliol l’ecoparc mòbil\, un servei que promou Reciplasa i el Consorci de Residus de la Zona C2 per a facilitar a la població el dipòsit i la gestió de deixalles domèstiques. El servei s’ubicarà este dissabte a l’Avinguda de Sant Josep Obrer\, entre les 8.30 i les 13.30 h. \nEl Consorci de Residus ha planificat que l’ecoparc estiga situat en punts molt visibles i de fàcil accés per a facilitar als veïns el lliurament dels diferents residus.  \nLa ciutadania pot dipositar de manera gratuïta residus de tot tipus\, relacionats amb l’electrònica\, per exemple\, com piles\, carregadors\, telèfons\, monitors o impressores; materials d’il·luminació com bombetes o tubs fluorescents; també pintures\, vernissos\, cosmètics o medicines caducades\, entre molts altres. \nL’ecoparc mòbil pretén fomentar la recollida selectiva de residus domèstics de forma continuada\, per això el projecte es mantindrà operatiu durant diversos mesos. \n\nVine a portar-nos els teus residus.\n\nAcí tens la llista d’objectes que ens pots portar: https://bit.ly/36k6hzf\n\n+ Info Ecoparc Mòbil
URL:https://nueva.betxi.es/event/ecoparc-mobil/
LOCATION:Av. de Sant Josep Obrer\, Av. de Sant Josep Obrer\, Betxí\, 12549
CATEGORIES:Ajuntament
ATTACH;FMTTYPE=image/jpeg:https://nueva.betxi.es/wp-content/uploads/2021/06/ecoparc-mobil-reciplasa_web.jpg
END:VEVENT
BEGIN:VEVENT
DTSTART;TZID=Europe/Madrid:20210710T190000
DTEND;TZID=Europe/Madrid:20210710T200000
DTSTAMP:20260422T021325
CREATED:20210709T055419Z
LAST-MODIFIED:20210709T055419Z
UID:12281-1625943600-1625947200@nueva.betxi.es
SUMMARY:Cavalcada de Sant Cristòfol
DESCRIPTION:Demà dissabte\, 10 de juliol\, a partir de les 7 de la vesprada\, tindrà lloc la tradicional Cavalcada de Sant Cristòfol. \nLa zona de concentració de vehicles s’ubicarà en l’avinguda de Sant Josep Obrer\, en el tram que va des del Mercat Municipal fins al carrer del Progrés. \nEs recomana als conductors i conductores que\, durant la desfilada\, realitzen una conducció tranquil·la i siguen pacients davant les possibles retencions. \n\nAnimem a tots i totes a vindre\, si és possible\, en bicicleta. \nLes persones participants rebran un xicotet detall. \n 
URL:https://nueva.betxi.es/event/cavalcada-de-sant-cristofol/
CATEGORIES:Actualitat,Festes
END:VEVENT
BEGIN:VEVENT
DTSTART;TZID=Europe/Madrid:20210708T170000
DTEND;TZID=Europe/Madrid:20210708T203000
DTSTAMP:20260422T021325
CREATED:20210618T083332Z
LAST-MODIFIED:20210618T083332Z
UID:12223-1625763600-1625776200@nueva.betxi.es
SUMMARY:Donació de sang
DESCRIPTION:Requisits:  \n-Tindre entre 18 i 65 anys. \n-Pesar més de 50 quilos i no acudir en dejú. \nRecordeu guardar la distància interpersonal de 2 metres.
URL:https://nueva.betxi.es/event/donacio-de-sang-4/
LOCATION:Centre Públic Municipal de Formació de Persones Adultes\, Av. de Sant Josep Obrer\, 40\, Betxí\, 12549
ATTACH;FMTTYPE=image/jpeg:https://nueva.betxi.es/wp-content/uploads/2021/06/donacio_sang.jpg
END:VEVENT
BEGIN:VEVENT
DTSTART;TZID=Europe/Madrid:20210707T183000
DTEND;TZID=Europe/Madrid:20210707T200000
DTSTAMP:20260422T021325
CREATED:20210706T181946Z
LAST-MODIFIED:20210706T181946Z
UID:12263-1625682600-1625688000@nueva.betxi.es
SUMMARY:Passejada al riu
DESCRIPTION:Dins del procés de regeneració del riu Sec a Betxí\, des de la regidoria de Medi Ambient organitzem una activitat de passeig pel llit del riu per a definir la proposta o propostes de senda fluvial que volem definir en els pròxims mesos. \nSerà el dimecres 7 a les 18.30 h i partirà del Pontarró. \nUs animem a participar en aquest projecte de futur per al nostre poble.
URL:https://nueva.betxi.es/event/passejada-al-riu/
ATTACH;FMTTYPE=image/jpeg:https://nueva.betxi.es/wp-content/uploads/2021/07/passeig-pel-riu.jpeg
END:VEVENT
BEGIN:VEVENT
DTSTART;TZID=Europe/Madrid:20210630T193000
DTEND;TZID=Europe/Madrid:20210630T210000
DTSTAMP:20260422T021325
CREATED:20210629T071043Z
LAST-MODIFIED:20210629T071043Z
UID:12238-1625081400-1625086800@nueva.betxi.es
SUMMARY:Ple de l'Ajuntament
DESCRIPTION:Ple de l’Ajuntament de Betxí \nSessió ordinària de 30 de juny de 2021 \n19.30h. \nConsulta de l’ordre del dia: https://betxi.sedelectronica.es/board
URL:https://nueva.betxi.es/event/ple-de-lajuntament-11/
LOCATION:Teatre Municipal de Betxí\, Av. de Joaquín Dualde\, 10\, Betxí\, Castelló\, 12549\, Espanya
CATEGORIES:Ajuntament
ATTACH;FMTTYPE=image/jpeg:https://nueva.betxi.es/wp-content/uploads/2020/04/Ajuntament_de_Betxí.jpg
END:VEVENT
BEGIN:VEVENT
DTSTART;TZID=Europe/Madrid:20210619T190000
DTEND;TZID=Europe/Madrid:20210619T210000
DTSTAMP:20260422T021325
CREATED:20210618T081259Z
LAST-MODIFIED:20210618T081259Z
UID:12220-1624129200-1624136400@nueva.betxi.es
SUMMARY:La Biblia contada per Xavi Castillo
DESCRIPTION:
URL:https://nueva.betxi.es/event/la-biblia-contada-per-xavi-castillo/
LOCATION:Teatre Municipal de Betxí\, Av. de Joaquín Dualde\, 10\, Betxí\, Castelló\, 12549\, Espanya
CATEGORIES:Teatre
ATTACH;FMTTYPE=image/jpeg:https://nueva.betxi.es/wp-content/uploads/2021/06/labiblica_xavi_castillo.jpeg
END:VEVENT
BEGIN:VEVENT
DTSTART;TZID=Europe/Madrid:20200930T193000
DTEND;TZID=Europe/Madrid:20200930T210000
DTSTAMP:20260422T021325
CREATED:20200928T121352Z
LAST-MODIFIED:20200928T121352Z
UID:11191-1601494200-1601499600@nueva.betxi.es
SUMMARY:Ple de l'Ajuntament
DESCRIPTION:Ple de l’Ajuntament de Betxí \nSessió de caràcter ordinari\, núm. 7/2020\, de 30/09/2020
URL:https://nueva.betxi.es/event/ple-de-lajuntament-10/
LOCATION:Teatre Municipal de Betxí\, Av. de Joaquín Dualde\, 10\, Betxí\, Castelló\, 12549\, Espanya
CATEGORIES:Ajuntament
END:VEVENT
BEGIN:VEVENT
DTSTART;TZID=Europe/Madrid:20200508T233000
DTEND;TZID=Europe/Madrid:20200508T233000
DTSTAMP:20260422T021325
CREATED:20200306T115924Z
LAST-MODIFIED:20200306T115924Z
UID:9746-1588980600-1588980600@nueva.betxi.es
SUMMARY:Tribut a Mecano
DESCRIPTION:Tribut a Mecano \nDivendres\, 8 de maig. 23:00h. Saló 1964 \nVenda d’entrades en la Biblioteca Municipal (6€). Taquilla\, 8€ \nIX Ruta de la Tapa de Betxí
URL:https://nueva.betxi.es/event/tribut-a-mecano/
LOCATION:Saló 1964\, Av. Primer de maig\, 5\, Betxí\, Castelló\, 12549
CATEGORIES:Concert
ATTACH;FMTTYPE=image/jpeg:https://nueva.betxi.es/wp-content/uploads/2020/03/tribut_mecano.jpg
END:VEVENT
BEGIN:VEVENT
DTSTART;TZID=Europe/Madrid:20200312T170000
DTEND;TZID=Europe/Madrid:20200312T203000
DTSTAMP:20260422T021325
CREATED:20200224T121628Z
LAST-MODIFIED:20200306T111403Z
UID:9570-1584032400-1584045000@nueva.betxi.es
SUMMARY:Donació de sang
DESCRIPTION:Donació de sang. Dijous\, 12 de març\, de 17:00 a 20:30h. \nRequisits: tindre entre 18 i 65 anys\, pesar més de 50 quilos i no acudir en dejú. \n 
URL:https://nueva.betxi.es/event/donacio-de-sang-3/
LOCATION:Centre de Salut de Betxí\, Av. de Sant Josep Obrer\, s/n\, Betxí\, 12549
ATTACH;FMTTYPE=image/jpeg:https://nueva.betxi.es/wp-content/uploads/2020/02/Donació-de-sang-20200312.jpg
END:VEVENT
BEGIN:VEVENT
DTSTART;TZID=Europe/Madrid:20200307T100000
DTEND;TZID=Europe/Madrid:20200307T130000
DTSTAMP:20260422T021325
CREATED:20200218T074407Z
LAST-MODIFIED:20200218T074424Z
UID:9514-1583575200-1583586000@nueva.betxi.es
SUMMARY:II curs de defensa personal orientat a dones
DESCRIPTION:
URL:https://nueva.betxi.es/event/ii-curs-de-defensa-personal-orientat-a-dones-2/
END:VEVENT
BEGIN:VEVENT
DTSTART;TZID=Europe/Madrid:20200304T193000
DTEND;TZID=Europe/Madrid:20200304T210000
DTSTAMP:20260422T021325
CREATED:20200228T112606Z
LAST-MODIFIED:20200228T112606Z
UID:9601-1583350200-1583355600@nueva.betxi.es
SUMMARY:Ple de l'Ajuntament
DESCRIPTION:Ple de l’Ajuntament \nSessió ordinària de 04/03/2020\, a les 19.30h. \nConsulteu l’ordre del dia de la sessió.
URL:https://nueva.betxi.es/event/ple-de-lajuntament-9/
LOCATION:Saló de Plens de l’Ajuntament de Betxí\, Plaça Major\, 1\, Betxí\, 12549
CATEGORIES:Ajuntament
END:VEVENT
BEGIN:VEVENT
DTSTART;VALUE=DATE:20200302
DTEND;VALUE=DATE:20200311
DTSTAMP:20260422T021325
CREATED:20200211T083944Z
LAST-MODIFIED:20200306T101750Z
UID:9476-1583107200-1583884799@nueva.betxi.es
SUMMARY:Setmana de la Dona
DESCRIPTION:Betxí\, del 2 al 10 de març: Setmana de la Dona. Organitza Regidoria d’Igualtat.
URL:https://nueva.betxi.es/event/setmana-de-la-dona-2/
CATEGORIES:Actualitat
ATTACH;FMTTYPE=image/png:https://nueva.betxi.es/wp-content/uploads/2020/02/setmana-de-la-dona-web.png
END:VEVENT
BEGIN:VEVENT
DTSTART;TZID=Europe/Madrid:20200229T193000
DTEND;TZID=Europe/Madrid:20200229T203000
DTSTAMP:20260422T021325
CREATED:20200211T082658Z
LAST-MODIFIED:20200211T083403Z
UID:9472-1583004600-1583008200@nueva.betxi.es
SUMMARY:IV Festival Vi + Guitarra + Art
DESCRIPTION:IV Festival Vi + Guitarra + Art\n\n\nEn febrer\, tornem a celebrar el festival de Guitarra i Vi. Vos esperem els dissabtes 15\, 22 i 29 de febrer\, a les 19.30h. al Palau!
URL:https://nueva.betxi.es/event/iv-festival-vi-guitarra-art/
LOCATION:Palau Castell de Betxí\, Plaça Major\, Betxí\, 12549\, España
CATEGORIES:Concert
END:VEVENT
BEGIN:VEVENT
DTSTART;TZID=Europe/Madrid:20200229T100000
DTEND;TZID=Europe/Madrid:20200229T130000
DTSTAMP:20260422T021325
CREATED:20200218T074219Z
LAST-MODIFIED:20200218T074219Z
UID:9505-1582970400-1582981200@nueva.betxi.es
SUMMARY:II curs de defensa personal orientat a dones
DESCRIPTION:
URL:https://nueva.betxi.es/event/ii-curs-de-defensa-personal-orientat-a-dones/
LOCATION:CEIP Cervantes – J. Dualde de Betxí\, Cr. de la Trinitat\, s/n\, Betxí\, 12549
CATEGORIES:Agenda
END:VEVENT
BEGIN:VEVENT
DTSTART;TZID=Europe/Madrid:20200223T190000
DTEND;TZID=Europe/Madrid:20200223T200000
DTSTAMP:20260422T021325
CREATED:20200211T083536Z
LAST-MODIFIED:20200211T083536Z
UID:9474-1582484400-1582488000@nueva.betxi.es
SUMMARY:Concert de la Coral Polifònica de Betxí
DESCRIPTION:Diumenge 23:  a les 19 h\, al Teatre Municipal\, concert de la Coral Polifònica de Betxí. \nEntrada gratuïta fins a completar l’aforament.
URL:https://nueva.betxi.es/event/concert-de-la-coral-polifonica-de-betxi/
LOCATION:Teatre Municipal de Betxí\, Av. de Joaquín Dualde\, 10\, Betxí\, Castelló\, 12549\, Espanya
CATEGORIES:Concert
END:VEVENT
END:VCALENDAR